BEGIN:VCALENDAR
VERSION:2.0
PRODID:-//Je dis en scène ! - ECPv6.15.20//NONSGML v1.0//EN
CALSCALE:GREGORIAN
METHOD:PUBLISH
X-WR-CALNAME:Je dis en scène !
X-ORIGINAL-URL:https://jedisenscene.fr
X-WR-CALDESC:Évènements pour Je dis en scène !
REFRESH-INTERVAL;VALUE=DURATION:PT1H
X-Robots-Tag:noindex
X-PUBLISHED-TTL:PT1H
BEGIN:VTIMEZONE
TZID:Europe/Paris
BEGIN:DAYLIGHT
TZOFFSETFROM:+0100
TZOFFSETTO:+0200
TZNAME:CEST
DTSTART:20250330T010000
END:DAYLIGHT
BEGIN:STANDARD
TZOFFSETFROM:+0200
TZOFFSETTO:+0100
TZNAME:CET
DTSTART:20251026T010000
END:STANDARD
BEGIN:DAYLIGHT
TZOFFSETFROM:+0100
TZOFFSETTO:+0200
TZNAME:CEST
DTSTART:20260329T010000
END:DAYLIGHT
BEGIN:STANDARD
TZOFFSETFROM:+0200
TZOFFSETTO:+0100
TZNAME:CET
DTSTART:20261025T010000
END:STANDARD
BEGIN:DAYLIGHT
TZOFFSETFROM:+0100
TZOFFSETTO:+0200
TZNAME:CEST
DTSTART:20270328T010000
END:DAYLIGHT
BEGIN:STANDARD
TZOFFSETFROM:+0200
TZOFFSETTO:+0100
TZNAME:CET
DTSTART:20271031T010000
END:STANDARD
END:VTIMEZONE
BEGIN:VEVENT
DTSTART;TZID=Europe/Paris:20260813T200000
DTEND;TZID=Europe/Paris:20260813T200000
DTSTAMP:20260420T070217
CREATED:20260419T132707Z
LAST-MODIFIED:20260419T144725Z
UID:10000192-1786651200-1786651200@jedisenscene.fr
SUMMARY:Voyoues – Compagnie La VégaNova –
DESCRIPTION:Entrée à participation libre \nCavale sensible – Théâtre de rue et musique live pour grands espaces À partir de 10 ans / 60 minutes \nUne vieille bagnole déboule\, sound-system à balle. Les VOYOUeS sont en cavale. Un monde oppressant les poursuit. Objectif : fête\, échappée\, intensité. Iels rêvent de se suivre à jamais dans la fuite\, et cherchent à embarquer du monde avec elleux. Et puis ça déraille\, ça pète\, même ça\, ça ne marche plus. Leur bagnole leur ressemble\, il y a un projet de fond à ré-inventer.  \n			\n				\n				\n				\n				\n				\n				\n			\n				\n				\n				\n				\n				\n			\n			\n				\n				\n				\n				\n				\n				\n				\n				\n				\n				\n   DISTRIBUTION \nEcriture collectiveDirection artistique et jeu : Assaï et Louise TardifMise en scène : Marion QuatrevauxCréation musicale\, musique live et régie plateau : Aurélien Calvo Regard complice : Sigrid BordierBureau de production : Les Thérèses Production/Diffusion : Dominique Strée et Marie MaquaireCrédit photo : Mina Mosse \nLA COMPAGNIE \nLa VégaNova défend un théâtre politique\, grinçant\, poétique et performatif. Fondée à l’occasion de la création du solo UNjE d’Assaï\, et portée par deux femmes artistes\, Assaï Blanchard et Louise Tardif\, la compagnie investit les salles de théâtre et l’espace public. Elle cherche des écritures sur-mesure\, à toucher des sujets sous-éclairés\, à parler des intimes\, sans oublier jamais la part de folie qui nous habite. Arts de la rue L’action de la compagnie s’étend aussi à transmettre la pratique du théâtre\, sa vitalité et son engagement\, à des publics amateurs\, principalement les jeunes \nSite de la compagnie :https://www.laveganova.com \n\n			\n			\n				\n				\n				\n				\n			\n				\n				\n				\n				\n				\n				\n				\n					\n					\n					\n				\n				\n					\n					\n					\n				\n				\n					\n					\n					\n				\n				\n					\n					\n					\n				\n				\n				\n				\n				\n				\n				\n				\n					La compagnie a présenté VOYOUeS au festival Eurek Art\, et y a remporté le prix du Jury Label Rue. La représentation sera l’occasion de découvrir les évolutions de ce spectacle à la fois drôle et poétique. \n					Sylvie Nicola\n					La Petite République \n				\n			\n				\n				\n				\n				\n				\n				\n					Les VOYOUeS\, c’est un·e grand·e\, une petite\, une licorne à bord d’une voiture sound-system. Iels fuient : c’est leur seule manière de rester vivant·es. Harm et Gal savent ce qu’iels ont à faire jusqu’à ce que plus vraiment\, plus comment. Alors éclatent les crises\, les surdoses de panique\, les pertes de sens engrangés dans les corps. Un délire\, paradoxalement heureux\, s’invite comme seule respiration possible. \n					Festiv'aout
URL:https://jedisenscene.fr/evenement/voyoues-compagnie-la-veganova/
LOCATION:Halle couverte à Salies-du-Salat\, 1 avenue de la gare\, Salies-du-Salat\, 31260\, France
CATEGORIES:Jeudis en Scène !
ATTACH;FMTTYPE=image/jpeg:https://jedisenscene.fr/wp-content/uploads/2026/04/image-Voyoues-e1776607491804.jpg
ORGANIZER;CN="Je dis en sc%C3%A8ne !":MAILTO:contact@jedisenscene.fr
END:VEVENT
END:VCALENDAR