BEGIN:VCALENDAR
VERSION:2.0
PRODID:-//Je dis en scène ! - ECPv6.15.20//NONSGML v1.0//EN
CALSCALE:GREGORIAN
METHOD:PUBLISH
X-WR-CALNAME:Je dis en scène !
X-ORIGINAL-URL:https://jedisenscene.fr
X-WR-CALDESC:Évènements pour Je dis en scène !
REFRESH-INTERVAL;VALUE=DURATION:PT1H
X-Robots-Tag:noindex
X-PUBLISHED-TTL:PT1H
BEGIN:VTIMEZONE
TZID:Europe/Paris
BEGIN:DAYLIGHT
TZOFFSETFROM:+0100
TZOFFSETTO:+0200
TZNAME:CEST
DTSTART:20170326T010000
END:DAYLIGHT
BEGIN:STANDARD
TZOFFSETFROM:+0200
TZOFFSETTO:+0100
TZNAME:CET
DTSTART:20171029T010000
END:STANDARD
BEGIN:DAYLIGHT
TZOFFSETFROM:+0100
TZOFFSETTO:+0200
TZNAME:CEST
DTSTART:20180325T010000
END:DAYLIGHT
BEGIN:STANDARD
TZOFFSETFROM:+0200
TZOFFSETTO:+0100
TZNAME:CET
DTSTART:20181028T010000
END:STANDARD
BEGIN:DAYLIGHT
TZOFFSETFROM:+0100
TZOFFSETTO:+0200
TZNAME:CEST
DTSTART:20190331T010000
END:DAYLIGHT
BEGIN:STANDARD
TZOFFSETFROM:+0200
TZOFFSETTO:+0100
TZNAME:CET
DTSTART:20191027T010000
END:STANDARD
END:VTIMEZONE
BEGIN:VEVENT
DTSTART;TZID=Europe/Paris:20180802T200000
DTEND;TZID=Europe/Paris:20180802T213000
DTSTAMP:20260421T011921
CREATED:20221108T164913Z
LAST-MODIFIED:20251023T144707Z
UID:10000113-1533240000-1533245400@jedisenscene.fr
SUMMARY:iSi et Là – Compagnie i.Si –
DESCRIPTION:Entrée à participation libre \nDuo clownesque et musicalDurée : 50 minutesA partir de 7 ans \n​Mr iSi\, idiophoniste\, nomade est à la recherche d’un lieu de vie\, rien que pour lui. Il emmène avec lui ses malles et toute sa petite vie\, son barda\, seul. On découvre peu à peu ses petites manies et … son compagnon de route bien rangé. Une journée presque ordinaire… où s’invite le pouvoir\, l’envie\, la cruauté\, les mesquineries\, l’amour et la complicité. Une partition visuelle poétique\, burlesque et musicale. \nUn spectacle poétique\, musical\, familial\, sans paroles qui parle de surconsommation\, de pouvoir\, de cruauté\, de tendresse. Au travers de deux personnages nomades\, qui vivent chichement sans gaspiller. Un univers singulier construit autour d’objets détournés et récupérés. Une vie ordinaire où se dévoile peu à peu les travers de la société\, nos travers! On rit\, on est ému\, on prend parti\, on rêve mais surtout on s’attache à ses deux personnages qui nous évoque l’ambiance de Jacques Tati\, avec des manières à la Buster Keaton ou Chaplin dans un univers inspiré de Tim Burton. \n			\n			\n				\n				\n				\n				\n				\n				\n				\n				\n				\n				Distribution \nEcriture et jeuEric Mimeau et Matthieu Simon \nMise en scèneJean-Jacques Faure \nCompagnie i.SiSite internet : https://cieisi.com/
URL:https://jedisenscene.fr/evenement/isi-et-la/
LOCATION:Sarp\, 44 Rte du Saint-Bertrand\, Sarp\, 65370\, France
CATEGORIES:Jeudis en Scène !
ATTACH;FMTTYPE=image/jpeg:https://jedisenscene.fr/wp-content/uploads/2022/11/cropped-isi-et-lc3a0-vincent-vanhecke6562.jpg
ORGANIZER;CN="Je dis en sc%C3%A8ne !":MAILTO:contact@jedisenscene.fr
END:VEVENT
BEGIN:VEVENT
DTSTART;TZID=Europe/Paris:20180809T200000
DTEND;TZID=Europe/Paris:20180809T213000
DTSTAMP:20260421T011921
CREATED:20221108T170200Z
LAST-MODIFIED:20251023T144707Z
UID:10000114-1533844800-1533850200@jedisenscene.fr
SUMMARY:Cœur en cavale – Compagnie Les Clochards Célestes –
DESCRIPTION:Entrée à participation libre \nThéâtre et marionnettesDurée : 45 minutesA partir de 4 ans \n​Au loin une silhouette de femme\, frêle mais décidée.Avec elle\, un vélo-cheval et sa diligence…la poussière d’un sol aride et des gamelles qui brinquebalent…et cette petite odeur de fumée qui nous transporte vers le Far West… \nEn Cercle\, rappelant celui des Amérindiens\, le public est invité à partager un temps d’intimité avec cette femme qui ouvre ici son carnet de route\, comme un cri de liberté\, un cœur ouvert à l’urgence de Vivre et d’Aimer. \nCette œuvre théâtrale de rue met en scène des tableaux vivants\, picturaux\, sculptés et animés.Il y est question de la Vie\, de la Mort\, d’Amour et de Nature sauvage. \n			\n			\n				\n				\n				\n				\n				\n				\n				\n				\n				\n				Distribution \nEcriture et jeuSha Presseq​ \nMise en scèneCéline Cohen \nCompagnie Les Clochards CélestesToulouseSite internet : http://www.cielesclochardscelestes.fr/
URL:https://jedisenscene.fr/evenement/coeur-en-cavale/
LOCATION:Sarp\, 44 Rte du Saint-Bertrand\, Sarp\, 65370\, France
CATEGORIES:Jeudis en Scène !
ATTACH;FMTTYPE=image/jpeg:https://jedisenscene.fr/wp-content/uploads/2022/11/little-big-heart-spectacle-mario.jpg
ORGANIZER;CN="Je dis en sc%C3%A8ne !":MAILTO:contact@jedisenscene.fr
END:VEVENT
BEGIN:VEVENT
DTSTART;TZID=Europe/Paris:20180816T200000
DTEND;TZID=Europe/Paris:20180816T213000
DTSTAMP:20260421T011921
CREATED:20221109T000720Z
LAST-MODIFIED:20251023T144707Z
UID:10000115-1534449600-1534455000@jedisenscene.fr
SUMMARY:Sâadikh\, grand fakir mondial – Monsieur Pif –
DESCRIPTION:Entrée à participation libre \nClownDurée : 50 minutesA partir de 5 ans \nMonsieur Pif est un clown.Il est seul\, nomade\, à la recherche des rencontres et des petits bonheurs.Parfois\, il rêve de la vie des autres…Cette fois-ci\, il devient “LE SAÂDIKH”.Avec l’espoir d’être grand\, d’être aimé. Et pour le plaisir aussi.Tout simplement.Enfin presque… \nL’exploit n’est pas loin mais le numéro dérape un peu…Il devient naïvement imprévisible et drôlement spectaculaire.Il pince les rires avec bonheur.Il raconte avec simplicité un désespoir joyeux qui parle de la vie… \n… et de l’amour !!! \n			\n			\n				\n				\n				\n				\n				\n				\n				\n				\n				\n				Distribution \nEcriture et jeuPierre-François TEPHAINE \nMonsieur PifLoire-AtlantiqueSite internet : http://monsieurpif.com/
URL:https://jedisenscene.fr/evenement/saadikh-grand-fakir-mondial/
LOCATION:Sarp\, 44 Rte du Saint-Bertrand\, Sarp\, 65370\, France
CATEGORIES:Jeudis en Scène !
ATTACH;FMTTYPE=image/jpeg:https://jedisenscene.fr/wp-content/uploads/2022/11/7-1.jpg
ORGANIZER;CN="Je dis en sc%C3%A8ne !":MAILTO:contact@jedisenscene.fr
END:VEVENT
BEGIN:VEVENT
DTSTART;TZID=Europe/Paris:20180823T200000
DTEND;TZID=Europe/Paris:20180823T213000
DTSTAMP:20260421T011922
CREATED:20221109T001447Z
LAST-MODIFIED:20251023T144707Z
UID:10000116-1535054400-1535059800@jedisenscene.fr
SUMMARY:Stoïk – Compagnie Les GüMs –
DESCRIPTION:Entrée à participation libre \nBurlesqueDurée : 60 minutesA partir de 5 ans \nIls sont là\, monsieur et madame tout le monde\, sans rien. Une scénographie épurée\, où le moteur est l’ennui et le carburant l’attente. Ils vous ramènent à l’angoisse de la page blanche. Ils veulent toujours bien faire pour mieux rater. La grantitude du rien pour montrer la petitude du tout. \nIl est grand\, dégingandé et mollasson\, veut bien faire. Elle est petite\, énergique\, rablette mais tout ça la dépasse. Ils sont proches d’eux-même et du public. \nUn mélange de cirque\, de jeu clownesque et de musique pour un spectacle poétique\, esthétique et comique. Un monde burlesque\, ou l’exploit sort de l’extraordinaire pour devenir ordinaire. \nUn monde gestuellement absurde : rien n’est là\, rien est là\, tout est là. \nUn spectacle où ça ne parle qu’avec le corps\, où ils bougent sans danser\, où l’inintéressant devient intéressant. Une poésie absurde\, un contre exploit\, un mélange des styles\, où il n’y a rien pour tout. \nAu début tout est normal\, enfin presque. Après ça devient bizarre. À la fin c’est n’importe quoi. \n			\n			\n				\n				\n				\n				\n				\n				\n				\n				\n				\n				Distribution \nLe spectacle Stoïk a été lauréat du Prix du public Mim’Off 2014 et lauréat du Groupe Geste(s) 2014. \nCoproducteur : Groupe Geste(s)Partenaires : L’école de clown Le Samovar\, L’école de cirque de Lyon\, Les Abattoirs de Riom\, Les Subsistances\, Le Lido : centre des arts du cirque de Toulouse\, La Grainerie : fabrique des arts du cirque\, Le château de Monthelon\, La compagnie Chabatz d’Entrar\, LéVa : L’espace Vent d’Autan à Auch et l’IVT (International Visual Theatre) par partenariat LSF. \nDistributionConception et jeu : Brian Henninot et Clémence RouzierMise en scène : Johan LescopProduction / Diffusion : Juliette VaintanCommunication : Juliette RayCostumes : Sabrina MarlettaTeaser : Pablo Rosenblatt et Emilie Desjardins \nCompagnie Les GüMsSite internet : https://www.lesgums.com/
URL:https://jedisenscene.fr/evenement/stoik-2018/
LOCATION:Sarp\, 44 Rte du Saint-Bertrand\, Sarp\, 65370\, France
CATEGORIES:Jeudis en Scène !
ATTACH;FMTTYPE=image/jpeg:https://jedisenscene.fr/wp-content/uploads/2022/11/03-stoik-dominiquehogard169.jpg
ORGANIZER;CN="Je dis en sc%C3%A8ne !":MAILTO:contact@jedisenscene.fr
END:VEVENT
BEGIN:VEVENT
DTSTART;TZID=Europe/Paris:20180830T220000
DTEND;TZID=Europe/Paris:20180830T233000
DTSTAMP:20260421T011922
CREATED:20221109T002359Z
LAST-MODIFIED:20251023T144707Z
UID:10000117-1535666400-1535671800@jedisenscene.fr
SUMMARY:Tout contre toi – Compagnie Moving People –
DESCRIPTION:Entrée à participation libre \nThéâtre de MarionnettesDurée : 60 minutesA partir de 12 ans \nUne porte\, une table\, deux chaises et une horloge sont les éléments du cadre de cinq huis clos amoureux.4 couples\, 1 trio\, 21 figurants et 1 duo de marionnettistes s’aventurent dans le labyrinthe des relations et des identités. \nDes contes d’humour\, tendre\, cruel et étrange\, qui font voler en éclats les portes ouvertes sur l’intime. \nLes séquences s’enchaînent\, mêlant diverses techniques de marionnettes\, accompagnées d’une musique originale renforçant l’atmosphère poétique de ce spectacle sans paroles \n			\n			\n				\n				\n				\n				\n				\n				\n				\n				\n				\n				Distribution \nÉcriture\, mise en scène & construction : Jo Smith & Katia Leroi-GodetInterprétation : Jo Smith & Mélodie PareauMusique & Son : AlbiConstruction scénographique : Pitrack Sant \nCompagnie Moving PeopleSite internet : https://ciemovingpeople.com/
URL:https://jedisenscene.fr/evenement/tout-contre-toi/
LOCATION:Sarp\, 44 Rte du Saint-Bertrand\, Sarp\, 65370\, France
CATEGORIES:Jeudis en Scène !
ATTACH;FMTTYPE=image/jpeg:https://jedisenscene.fr/wp-content/uploads/2022/11/a1e86c7d-905c-4a53-9db1-fd955e9c.jpg
ORGANIZER;CN="Je dis en sc%C3%A8ne !":MAILTO:contact@jedisenscene.fr
END:VEVENT
END:VCALENDAR