BEGIN:VCALENDAR
VERSION:2.0
PRODID:-//Je dis en scène ! - ECPv6.15.20//NONSGML v1.0//EN
CALSCALE:GREGORIAN
METHOD:PUBLISH
X-ORIGINAL-URL:https://jedisenscene.fr
X-WR-CALDESC:Évènements pour Je dis en scène !
REFRESH-INTERVAL;VALUE=DURATION:PT1H
X-Robots-Tag:noindex
X-PUBLISHED-TTL:PT1H
BEGIN:VTIMEZONE
TZID:Europe/Paris
BEGIN:DAYLIGHT
TZOFFSETFROM:+0100
TZOFFSETTO:+0200
TZNAME:CEST
DTSTART:20140330T010000
END:DAYLIGHT
BEGIN:STANDARD
TZOFFSETFROM:+0200
TZOFFSETTO:+0100
TZNAME:CET
DTSTART:20141026T010000
END:STANDARD
BEGIN:DAYLIGHT
TZOFFSETFROM:+0100
TZOFFSETTO:+0200
TZNAME:CEST
DTSTART:20150329T010000
END:DAYLIGHT
BEGIN:STANDARD
TZOFFSETFROM:+0200
TZOFFSETTO:+0100
TZNAME:CET
DTSTART:20151025T010000
END:STANDARD
BEGIN:DAYLIGHT
TZOFFSETFROM:+0100
TZOFFSETTO:+0200
TZNAME:CEST
DTSTART:20160327T010000
END:DAYLIGHT
BEGIN:STANDARD
TZOFFSETFROM:+0200
TZOFFSETTO:+0100
TZNAME:CET
DTSTART:20161030T010000
END:STANDARD
END:VTIMEZONE
BEGIN:VEVENT
DTSTART;TZID=Europe/Paris:20150709T220000
DTEND;TZID=Europe/Paris:20150709T233000
DTSTAMP:20260425T031837
CREATED:20221111T194523Z
LAST-MODIFIED:20251023T144726Z
UID:10000134-1436479200-1436484600@jedisenscene.fr
SUMMARY:Entre dos aguas – Flamenco fusion world music –
DESCRIPTION:Entrée à participation libre \nConcertDurée : 90 minutesTout public \nEntre dos Aguas est né en 2004\, fruit de la rencontre entre Olivier Vayre et Eric De Chalup. La formation proposait au départ un flamenco plus traditionnel teinté de manouche ou de jazz. David Dutech a rejoint le groupe en 2007 et Sérena De Sousa en 2011. Progressivement\, les couleurs du monde sont venues nourrir leur musique ; du beatbox Occidental\, aux raggas indiens\, du chant mongol au Métal Américain\, toutes les couleurs dansent\, chansons et instrumentaux se mélangent et changent le cours du temps… \n			\n			\n				\n				\n				\n				\n				\n				\n				\n				\n				\n				Distribution \nOlivier Vayre\, ceitun el colibri : guitares\, choeurs…Eric de Chalup\, pépé : chant guitare…David Dutech\, el diablo del cajon : percussions\, beat box\, choeurs…Serena : danse \nEntre dos AguasToulouseSite internet : https://www.facebook.com/profile.php?id=100067872377345
URL:https://jedisenscene.fr/evenement/entre-dos-aguas/
LOCATION:Sarp\, 44 Rte du Saint-Bertrand\, Sarp\, 65370\, France
CATEGORIES:Jeudis en Scène !
ATTACH;FMTTYPE=image/jpeg:https://jedisenscene.fr/wp-content/uploads/2022/11/1836717_665232686868741_741456536_o.jpg
ORGANIZER;CN="Je dis en sc%C3%A8ne !":MAILTO:contact@jedisenscene.fr
END:VEVENT
BEGIN:VEVENT
DTSTART;TZID=Europe/Paris:20150716T220000
DTEND;TZID=Europe/Paris:20150716T233000
DTSTAMP:20260425T031837
CREATED:20221111T200129Z
LAST-MODIFIED:20251023T144726Z
UID:10000135-1437084000-1437089400@jedisenscene.fr
SUMMARY:Prends tes médicaments\, j't'emmène à Tarbes – Compagnie Étincelles Théâtre –
DESCRIPTION:Entrée à participation libre \nThéâtreDurée :A partir de 12 ans \nL’évolution d’une famille. Le père est alcoolique. Le fils est dépendant au cannabis et aux jeux vidéos. La vie de la mère tourne autour de 3 choses: médicaments\, Française des jeux\, télévision. \nCe cocktail n’est guère propice aux échanges familiaux. \nEntre burlesque et intimisme\, humour et émotion forte\, il s’agira ici d’aborder le thème des addictions sans jugement\, de pointer les dysfonctionnements relationnels qu’elles peuvent entraîner. \n			\n			\n				\n				\n				\n				\n				\n				\n				\n				\n				\n				Distribution \nde Jean-Marie Daude \nGiles Flachenberg\, Catherine Bouligand et Jérôme Lecomte  \nCompagnie Étincelles ThéâtreAriège
URL:https://jedisenscene.fr/evenement/prends-tes-medicaments-jtemmene-a-tarbes/
LOCATION:Sarp\, 44 Rte du Saint-Bertrand\, Sarp\, 65370\, France
CATEGORIES:Fête de la chanson politique,Jeudis en Scène !
ATTACH;FMTTYPE=image/jpeg:https://jedisenscene.fr/wp-content/uploads/2022/11/Sans-titre-1.jpg
ORGANIZER;CN="Je dis en sc%C3%A8ne !":MAILTO:contact@jedisenscene.fr
END:VEVENT
BEGIN:VEVENT
DTSTART;TZID=Europe/Paris:20150723T220000
DTEND;TZID=Europe/Paris:20150723T233000
DTSTAMP:20260425T031837
CREATED:20221111T201924Z
LAST-MODIFIED:20251023T144726Z
UID:10000136-1437688800-1437694200@jedisenscene.fr
SUMMARY:Chet Nuneta – Chants migratoires –
DESCRIPTION:Entrée à participation libre \nConcertDurée : 90 minutesTout public \nToujours à la frontière entre musiques du monde et musiques actuelles et en usant d’un métissage choisi\, Chet Nuneta est un groupe de polyphonie et percussions qui invite le spectateur dans un univers musical aux expressions théâtrales et dansées. \nInspiré des rythmes\, des langues et ce qu’elles transportent d’imaginaires\, Chet Nuneta présente sur scène son nouveau spectacle et entame son 4ème album : MAITA CHÉN (en calé maita = madrecita et chén = tierra). \nAujourd’hui composé de trois chanteuses venues d’Espagne\, de France et d’Italie\, d’un chanteur percussionniste franco-marocain et d’un percussionniste français aux influences multiples\, \nChet Nuneta explore les richesses liées à la rencontre musicale de ses membres\, chacun apportant dans ce nouveau projet ses influences\, ses désirs\, sa signature vocale et percussive. \n			\n			\n				\n				\n				\n				\n				\n				\n				\n				\n				\n				Distribution \nVoix : Fouad Achkir\, Anne Roy\, Lilia Ruocco\, Beatriz Salmeron MartinPercussions : Fouad Achkir\, Michaël Fernandez \nChet NunetaSite internet : http://chetnuneta.net/
URL:https://jedisenscene.fr/evenement/chet-nuneta/
LOCATION:Sarp\, 44 Rte du Saint-Bertrand\, Sarp\, 65370\, France
CATEGORIES:Jeudis en Scène !
ATTACH;FMTTYPE=image/jpeg:https://jedisenscene.fr/wp-content/uploads/2022/11/13719579_10154282789758397_8852949495658219933_o.jpg
ORGANIZER;CN="Je dis en sc%C3%A8ne !":MAILTO:contact@jedisenscene.fr
END:VEVENT
END:VCALENDAR