BEGIN:VCALENDAR
VERSION:2.0
PRODID:-//Je dis en scène ! - ECPv6.15.20//NONSGML v1.0//EN
CALSCALE:GREGORIAN
METHOD:PUBLISH
X-ORIGINAL-URL:https://jedisenscene.fr
X-WR-CALDESC:Évènements pour Je dis en scène !
REFRESH-INTERVAL;VALUE=DURATION:PT1H
X-Robots-Tag:noindex
X-PUBLISHED-TTL:PT1H
BEGIN:VTIMEZONE
TZID:Europe/Paris
BEGIN:DAYLIGHT
TZOFFSETFROM:+0100
TZOFFSETTO:+0200
TZNAME:CEST
DTSTART:20240331T010000
END:DAYLIGHT
BEGIN:STANDARD
TZOFFSETFROM:+0200
TZOFFSETTO:+0100
TZNAME:CET
DTSTART:20241027T010000
END:STANDARD
BEGIN:DAYLIGHT
TZOFFSETFROM:+0100
TZOFFSETTO:+0200
TZNAME:CEST
DTSTART:20250330T010000
END:DAYLIGHT
BEGIN:STANDARD
TZOFFSETFROM:+0200
TZOFFSETTO:+0100
TZNAME:CET
DTSTART:20251026T010000
END:STANDARD
BEGIN:DAYLIGHT
TZOFFSETFROM:+0100
TZOFFSETTO:+0200
TZNAME:CEST
DTSTART:20260329T010000
END:DAYLIGHT
BEGIN:STANDARD
TZOFFSETFROM:+0200
TZOFFSETTO:+0100
TZNAME:CET
DTSTART:20261025T010000
END:STANDARD
END:VTIMEZONE
BEGIN:VEVENT
DTSTART;TZID=Europe/Paris:20250419T100000
DTEND;TZID=Europe/Paris:20250419T130000
DTSTAMP:20260423T035338
CREATED:20250218T182644Z
LAST-MODIFIED:20251023T144620Z
UID:10000168-1745056800-1745067600@jedisenscene.fr
SUMMARY:Atelier sur la parentalité – Théâtre forum avec le Détachement International du Muerto Coco –
DESCRIPTION:ATELIER SUR LA PARENTALITÉ \n🎭 Atelier Théâtre Participatif – Parentalité📍 Salle du Pavillon Normand\, Place Richelieu\, Luchon📅 Samedi 19 avril 2025 | ⏰ 10H00 – 13H00⏳ 3 heures \n👥 À partir de 13 ans🎟️ Gratuit – Sur réservation avant le 16 avril📧 Inscription : mjcluchon.com \n\nAnimé par le « Détachement International du Muerto Coco »2 intervenantes – Raphaëlle Bouvier et Charlotte Perrin de Boussac \nInitialement une investigation autour de la parentalité\, le travail de création de la compagnie marseillaise est polyforme. Elle s’inscrit notamment dans une volonté de transmission et de partage d’expérience convoquant ainsi une rencontre conviviale accessible à toutes et tous. \nDans la continuité du spectacle « Pour en finir avec l’origine du monde »\, nous proposons une séance de théâtre participatif\, inspirée du théâtre forum et du théâtre d’improvisation. Aucun prérequis théâtral n’est demandé\, il s’agira d’abord de se découvrir à travers des jeux de confiance et d’interprétation\, puis de s’emparer d’une situation choisie autour du thème de la parentalité\, de la mettre en scène d’une certaine manière\, puis de la décortiquer\, d’envisager d’autres résolutions et les différents aboutissements possibles. Les participant·e·s seront invité·e·s à participer\, par la parole bien sûr\, mais également en prenant part directement aux scènes d’improvisations que nous définirons ensemble. \nInscription avant le mercredi 16 avril :sur le site mjcluchon.com \n			\n			\n				\n				\n				\n				\n				\n				\n				\n				\n				\n				\nLA COMPAGNIE \nLe Détachement International du Muerto Coco est un collectif artistique fondé en 2012\, basé entre Marseille et l’Occitanie. Depuis sa création\, il se consacre à la production de spectacles mêlant poésie contemporaine\, arts sonores et performances scéniques. Le collectif explore divers formats artistiques\, notamment les arts de la rue et les espaces non conventionnels\, avec des créations telles que “Les Lectures électroniques en Caravane Sonore” et “TRINIDAD” \nSite internet de la compagnie :\nhttps://muertococo.jimdofree.com/
URL:https://jedisenscene.fr/evenement/atelier-parentalite-theatre-forum-avec-le-detachement-international-du-muerto-coco/
LOCATION:Place Richelieu à Luchon\, 1 place Richelieu Bagnères-de-Luchon\,\, Luchon\, 31110\, France
CATEGORIES:Plans culturels Luchon
ATTACH;FMTTYPE=image/jpeg:https://jedisenscene.fr/wp-content/uploads/2025/02/pierre_acobas-bd-e1739905383597.jpg
END:VEVENT
END:VCALENDAR