BEGIN:VCALENDAR
VERSION:2.0
PRODID:-//Je dis en scène ! - ECPv6.15.20//NONSGML v1.0//EN
CALSCALE:GREGORIAN
METHOD:PUBLISH
X-ORIGINAL-URL:https://jedisenscene.fr
X-WR-CALDESC:Évènements pour Je dis en scène !
REFRESH-INTERVAL;VALUE=DURATION:PT1H
X-Robots-Tag:noindex
X-PUBLISHED-TTL:PT1H
BEGIN:VTIMEZONE
TZID:Europe/Paris
BEGIN:DAYLIGHT
TZOFFSETFROM:+0100
TZOFFSETTO:+0200
TZNAME:CEST
DTSTART:20250330T010000
END:DAYLIGHT
BEGIN:STANDARD
TZOFFSETFROM:+0200
TZOFFSETTO:+0100
TZNAME:CET
DTSTART:20251026T010000
END:STANDARD
BEGIN:DAYLIGHT
TZOFFSETFROM:+0100
TZOFFSETTO:+0200
TZNAME:CEST
DTSTART:20260329T010000
END:DAYLIGHT
BEGIN:STANDARD
TZOFFSETFROM:+0200
TZOFFSETTO:+0100
TZNAME:CET
DTSTART:20261025T010000
END:STANDARD
BEGIN:DAYLIGHT
TZOFFSETFROM:+0100
TZOFFSETTO:+0200
TZNAME:CEST
DTSTART:20270328T010000
END:DAYLIGHT
BEGIN:STANDARD
TZOFFSETFROM:+0200
TZOFFSETTO:+0100
TZNAME:CET
DTSTART:20271031T010000
END:STANDARD
END:VTIMEZONE
BEGIN:VEVENT
DTSTART;TZID=Europe/Paris:20260730T200000
DTEND;TZID=Europe/Paris:20260730T200000
DTSTAMP:20260421T132426
CREATED:20260419T125046Z
LAST-MODIFIED:20260420T140535Z
UID:10000190-1785441600-1785441600@jedisenscene.fr
SUMMARY:Sauve qui peut – Compagnie Mmm... –
DESCRIPTION:Entrée à participation libre \nThéâtre / À partir de 14 ans / 90 minutes \nQui n’a jamais regretté de ne pas avoir réagi au moment où il le pouvait ? Sur la place publique\, quatre amies se font miroir. Elles se demandent comment se sauver elles-mêmes\, puisqu’elles savent depuis un bail qu’on ne peut pas sauver le monde. L’une se ment\, l’autre se tait\, l’une s’enlise\, l’autre renonce. \nSauve qui peut est une invitation à réveiller nos élans les plus nobles et à se responsabiliser. \n			\n				\n				\n				\n				\n				\n			\n			\n				\n				\n				\n				\n				\n				\n				\n				\n				\n				\n   DISTRIBUTION \nAvec : Marie-Magdeleine\, Laure Bezolles\, Pauline Blais\, Barbara Drouinaud-Bobineau\, César Frère\, Priscilla MuréÉcriture : Marie-MagdeleineMise en scène : Mathilde Saubole et Sarah ReimmorsRegards extérieurs: Paul Toucang\, Michaël Monnin\, Marion ParassinSon et lumières : Aurélien MacquetProduction-Diffusion : Anthony SimonCrédit photo : Justapics \nLA COMPAGNIE \nPortée par le duo Marie-Magdeleine et Julien Marot\, la Compagnie Mmm… est devenue une référence du seul-en-scène contemporain. Sa signature ? Un théâtre de l’incarnation totale\, où l’interprète change de personnage à la vitesse de l’éclair\, sans artifice. \nÀ travers des spectacles cultes comme La famille vient en mangeant ou GRAIN\, la compagnie explore nos névroses et nos fêlures avec une humanité débordante. Ici\, le rire est une arme de déconstruction massive et l’émotion\, un moteur de partage universel. Un théâtre vif\, organique et profondément salvateur. \nSite de la compagnie :https://www.compagniemmm.com \n\n			\n			\n				\n				\n				\n				\n			\n				\n				\n				\n				\n				\n				\n				\n					\n					\n					\n				\n				\n					\n					\n					\n				\n				\n					\n					\n					\n				\n				\n					\n					\n					\n				\n				\n				\n				\n				\n				\n				\n				\n					Un spectacle actuel qui bouscule\, questionne et réveille. […] “Sauve qui peut” est une invitation à se sortir les doigts\, à réveiller nos élans les plus nobles. En mots\, en musiques et en danses\, les personnages nous soufflent le chemin du cercle vertueux. C’est une pièce où l’on se demande comment se sauver soi-même\, puisqu’on sait depuis longtemps qu’on ne peut pas sauver le monde. \n					Le Kiosque (Culture & Sorties)\n					 \n				\n			\n				\n				\n				\n				\n				\n				\n					Toujours extraordinaire : l’écriture\, le jeu de scène\, les lumières… Tout est magnifique et juste. La Compagnie mmm… réussit une nouvelle fois à traiter de la responsabilité individuelle et collective avec une énergie communicative qui évite tous les clichés des “phrases toutes faites”. \n					Critique spectateur\n					Relais culturel
URL:https://jedisenscene.fr/evenement/sauve-qui-peut-compagnie-mmm/
LOCATION:Aspet\, Las Vignes\, Aspet\, 31160\, France
CATEGORIES:Jeudis en Scène !
ATTACH;FMTTYPE=image/jpeg:https://jedisenscene.fr/wp-content/uploads/2026/04/MmmPhoto-Sauve-qui-peut-6-e1776693922322.jpg
ORGANIZER;CN="Je dis en sc%C3%A8ne !":MAILTO:contact@jedisenscene.fr
END:VEVENT
END:VCALENDAR