BEGIN:VCALENDAR
VERSION:2.0
PRODID:-//Je dis en scène ! - ECPv6.15.20//NONSGML v1.0//EN
CALSCALE:GREGORIAN
METHOD:PUBLISH
X-ORIGINAL-URL:https://jedisenscene.fr
X-WR-CALDESC:Évènements pour Je dis en scène !
REFRESH-INTERVAL;VALUE=DURATION:PT1H
X-Robots-Tag:noindex
X-PUBLISHED-TTL:PT1H
BEGIN:VTIMEZONE
TZID:Europe/Paris
BEGIN:DAYLIGHT
TZOFFSETFROM:+0100
TZOFFSETTO:+0200
TZNAME:CEST
DTSTART:20240331T010000
END:DAYLIGHT
BEGIN:STANDARD
TZOFFSETFROM:+0200
TZOFFSETTO:+0100
TZNAME:CET
DTSTART:20241027T010000
END:STANDARD
BEGIN:DAYLIGHT
TZOFFSETFROM:+0100
TZOFFSETTO:+0200
TZNAME:CEST
DTSTART:20250330T010000
END:DAYLIGHT
BEGIN:STANDARD
TZOFFSETFROM:+0200
TZOFFSETTO:+0100
TZNAME:CET
DTSTART:20251026T010000
END:STANDARD
BEGIN:DAYLIGHT
TZOFFSETFROM:+0100
TZOFFSETTO:+0200
TZNAME:CEST
DTSTART:20260329T010000
END:DAYLIGHT
BEGIN:STANDARD
TZOFFSETFROM:+0200
TZOFFSETTO:+0100
TZNAME:CET
DTSTART:20261025T010000
END:STANDARD
END:VTIMEZONE
BEGIN:VEVENT
DTSTART;TZID=Europe/Paris:20250807T200000
DTEND;TZID=Europe/Paris:20250807T200000
DTSTAMP:20260421T222746
CREATED:20250509T085443Z
LAST-MODIFIED:20251023T144620Z
UID:10000183-1754596800-1754596800@jedisenscene.fr
SUMMARY:Kabinet – Compagnie Les humains gauches –
DESCRIPTION:Entrée à participation libre \nPsychanalyse de rue90 minutesTout public à partir de 12 ans \nPuisqu’on passe 3 ans de notre vie aux toilettes\, moi\, Moumoute décide d’y installer mon cabinet. Je vous le dévoile comme j’ouvre un cadeau\, comme tu déplies un paquet\, comme vous dépliez une situation chez le psy. Oui\, c’est de ce cabinet-là dont il s’agit (frigide psychique s’abstenir)! \nMa diarrhée est verbale ! Dans le « réel » du présent ça joue à aller mieux ou à dire que « ça ne va pas »\, même pas peur d’accepter qui je suis ! Même pas peur de mourir (euh…ça on verra) ! En sortant vous aurez compris (ou pas) la nécessité absurde et vitale « d’aller voir quelqu’un ». \n			\n				\n				\n				\n				\n				\n			\n			\n				\n				\n				\n				\n				\n				\n				\n				\n				\n				\n   DISTRIBUTION \nEcriture et jeu : Hélène VieilletoileRégie ( en alternance ) : Erwan Créhin\, François Coiteux et Alexis Blithikiotis. \nPhoto ci-dessus : Michel Wiart \nLA COMPAGNIE \nLa compagnie Les Humains Gauches est une troupe professionnelle de clowns fondée en 2007 à Poitiers. Elle se distingue par une approche radicale et organique du clown\, privilégiant des personnages bruts et archaïques évoluant dans l’espace public. Leur univers\, à la fois drôle et crasseux\, explore les limites de la liberté en se jouant des normes sociales. \nLa compagnie intervient également en milieu hospitalier\, notamment en pédiatrie\, apportant son art clownesque dans des contextes sensibles \nSite de la compagnie :https://www.leshumainsgauches.com/ \n\n			\n			\n				\n				\n				\n				\n			\n				\n				\n				\n				\n				\n				\n				\n					\n					\n					\n				\n				\n					\n					\n					\n				\n				\n					\n					\n					\n				\n				\n					\n					\n					\n				\n				\n				\n				\n				\n				\n				\n				\n					Voilà une séance de psy dont on ressort pour de bon rasséréné.e\, boosté.e\, au moins plus avant\, au mieux en paix avec soi-même. Et c’est déjà ça. \n					L'HUMANITÉ\n					 \n				\n			\n				\n				\n				\n				\n				\n				\n					Le rythme se joue pied au plancher\, en faisant craquer l’embrayage. La vulgarisation scientifique vaut son pesant de cacahuètes\, mais surtout quelle énergie ! Elle ne lâche rien. Un corps électrisé par la conviction et le plaisir de transmettre. \n					LES TROIS COUPS\n					Le journal du spectacle vivant
URL:https://jedisenscene.fr/evenement/kabinet-compagnie-les-humains-gauches/
LOCATION:Aspet\, Las Vignes\, Aspet\, 31160\, France
CATEGORIES:Jeudis en Scène !
ATTACH;FMTTYPE=image/jpeg:https://jedisenscene.fr/wp-content/uploads/2025/05/KABINET_©-Michel-Wiart-e1746780835218.jpg
ORGANIZER;CN="Je dis en sc%C3%A8ne !":MAILTO:contact@jedisenscene.fr
END:VEVENT
BEGIN:VEVENT
DTSTART;TZID=Europe/Paris:20250814T200000
DTEND;TZID=Europe/Paris:20250814T200000
DTSTAMP:20260421T222746
CREATED:20250509T090918Z
LAST-MODIFIED:20251023T144620Z
UID:10000184-1755201600-1755201600@jedisenscene.fr
SUMMARY:Oignon – Compagnie Le ventre –
DESCRIPTION:Entrée à participation libre \nThéâtre de rue70 minutesTout public à partir de 11 ans \nUne femme raconte :« Parait que pour dormir il faut faire le vide\, mais comment fait-on quand ça ne s’arrête jamais ? Et puis penser à rien\, c’est pas possible… car quand tu penses à rien\, tu ne penses pas à rien\, tu penses au fait de penser à rien… Si on se remplit tout le temps à quoi on tente d’échapper ? » \nEn tirant les fils de toutes ses peurs du vide et en laissant aller ses souvenirs\, les couches d’oignon s’enlèvent\, on se rapproche… Allez\, on tente de lâcher prise ! Une quête du saut dans le vide avec claquettes et oignons. \n			\n				\n				\n				\n				\n				\n			\n			\n				\n				\n				\n				\n				\n				\n				\n				\n				\n				\n   DISTRIBUTION \nConception et jeu : Edith LizionMise en scène : Marie-Magdeleine Sommier et Marc DuchangeCréation sonore et régie : Julien Moinel \nPhoto ci-dessus : Pierre Acobas \nLA COMPAGNIE \nLa Compagnie Le Ventre\, fondée fin 2018 et implantée à La Chapelle-de-Brain en Ille-et-Vilaine\, est un collectif d’artistes aux profils variés (comédien·nes\, plasticien·nes\, amateur·trices du spectacle vivant) qui développe des créations accessibles et sensibles\, en particulier en milieu rural\, à travers un théâtre itinérant . Elle se distingue par sa volonté de créer une proximité avec le public\, en proposant des spectacles tout terrain et en mettant en place des actions culturelles facilitant la rencontre entre artistes et publics . \nSite de la compagnie :https://cieleventre.fr \n\n			\n			\n				\n				\n				\n				\n			\n				\n				\n				\n				\n				\n				\n				\n					\n					\n					\n				\n				\n					\n					\n					\n				\n				\n					\n					\n					\n				\n				\n				\n				\n				\n				\n				\n				\n					« Oignon »\, une poésie du quotidien \n					Le Télégramme\n					 \n				\n			\n				\n				\n				\n				\n				\n				\n					Sur scène la comédienne nous met une claque ! Tantôt petite fille de 5 ans à qui son père lui a confié un oignon pour lui donner du courage\, tantôt adolescente aux prises avec ses doutes\, tantôt adulte insomniaque\, elle nous balade de fête foraine en repas de famille avec une énergie débordante et contagieuse. Elle danse\, crie\, chante\, joue des claquettes\, de l’accordéon\, du début à la fin elle ne s’arrête jamais\, dans un rythme effréné plein de poésie et d’humour. C’est drôle\, c’est puissant\, ça donne envie de manger des oignons…ou pas ! \n					Bocage Mayennais\n					Service culture\, Communauté de communes
URL:https://jedisenscene.fr/evenement/oignon-compagnie-le-ventre/
LOCATION:Aspet\, Las Vignes\, Aspet\, 31160\, France
CATEGORIES:Jeudis en Scène !
ATTACH;FMTTYPE=image/jpeg:https://jedisenscene.fr/wp-content/uploads/2025/05/plaquette-rue-c-photo-Pierre-Acobas-OIGNON-scaled-e1746781732556.jpg
ORGANIZER;CN="Je dis en sc%C3%A8ne !":MAILTO:contact@jedisenscene.fr
END:VEVENT
END:VCALENDAR