BEGIN:VCALENDAR
VERSION:2.0
PRODID:-//Je dis en scène ! - ECPv6.15.20//NONSGML v1.0//EN
CALSCALE:GREGORIAN
METHOD:PUBLISH
X-WR-CALNAME:Je dis en scène !
X-ORIGINAL-URL:https://jedisenscene.fr
X-WR-CALDESC:Évènements pour Je dis en scène !
REFRESH-INTERVAL;VALUE=DURATION:PT1H
X-Robots-Tag:noindex
X-PUBLISHED-TTL:PT1H
BEGIN:VTIMEZONE
TZID:Europe/Paris
BEGIN:DAYLIGHT
TZOFFSETFROM:+0100
TZOFFSETTO:+0200
TZNAME:CEST
DTSTART:20240331T010000
END:DAYLIGHT
BEGIN:STANDARD
TZOFFSETFROM:+0200
TZOFFSETTO:+0100
TZNAME:CET
DTSTART:20241027T010000
END:STANDARD
BEGIN:DAYLIGHT
TZOFFSETFROM:+0100
TZOFFSETTO:+0200
TZNAME:CEST
DTSTART:20250330T010000
END:DAYLIGHT
BEGIN:STANDARD
TZOFFSETFROM:+0200
TZOFFSETTO:+0100
TZNAME:CET
DTSTART:20251026T010000
END:STANDARD
BEGIN:DAYLIGHT
TZOFFSETFROM:+0100
TZOFFSETTO:+0200
TZNAME:CEST
DTSTART:20260329T010000
END:DAYLIGHT
BEGIN:STANDARD
TZOFFSETFROM:+0200
TZOFFSETTO:+0100
TZNAME:CET
DTSTART:20261025T010000
END:STANDARD
END:VTIMEZONE
BEGIN:VEVENT
DTSTART;TZID=Europe/Paris:20250710T200000
DTEND;TZID=Europe/Paris:20250710T200000
DTSTAMP:20260421T235255
CREATED:20250509T071357Z
LAST-MODIFIED:20251023T144620Z
UID:10000179-1752177600-1752177600@jedisenscene.fr
SUMMARY:La motivation – Cie LDQV Le Dénouement Qu'on Voudrait –
DESCRIPTION:Entrée à participation libre \nThéâtre de rue67 minutesTout public à partir de 10 ans \nAlice travaille.  \nElle est en charge de la communication pour une agence de conseil en orientation scolaire et professionnelle.  \nCe matin\, elle doit revêtir la mascotte de l’entreprise: un lapin blanc. Mais\, en revêtant l’adorable costume\, quelque chose en elle se froisse… \nLA MOTIVATION est un seul en scène textuel\, anarchique et sensible. La comédienne et sa mascotte donnent vie et forme à une multitude de personnages et de situations\, dans une traversée fulgurante et expiatoire dans la psyché d’Alice \n			\n				\n				\n				\n				\n				\n			\n			\n				\n				\n				\n				\n				\n				\n				\n				\n				\n				\n   DISTRIBUTION \nAuteure\, interprète : Aurélia TastetDramaturge : Isabelle LassignardieCréation musicale et sonore : Dorian VerdierMise en scène : Guillaume Méziat et Lorca RenouxChorégraphie : Karen JuanCostumes et scénographie : Angèle SaccucciRegards complices : Zineb Benzekri\, David Picard et Didier Taudière et Déborah Weber \nPhoto : Julie Coustarot \nLA COMPAGNIE \nLE DÉNOUEMENT QU’ON VOUDRAIT – CIE LDQV (se) prépare à une fin du monde poétisée\, politisée\, tarif de groupe. Elle s’efforcera\, et (se) promet d’accompagner une création artistique riche en éléments de compréhension du monde. Créations\, impulsions\, propulsions artistiques pensées comme KIT DE SURVIE à un monde qui se meurtau prochain qui nous vient \nSite internet de la compagnie :https://ledenouementquonvoudrait.fr \n\n			\n			\n				\n				\n				\n				\n			\n				\n				\n				\n				\n				\n				\n				\n					\n					\n					\n				\n				\n					\n					\n					\n				\n				\n					\n					\n					\n				\n				\n					\n					\n					\n				\n				\n					\n					\n					\n				\n				\n					\n					\n					\n				\n				\n				\n				\n				\n				\n				\n				\n					Une satire subtile qui libère nos corps et nos esprits pressurisés. Une incitation à déserter. Lucide\, ingénieuse et… généreuse. \n					Stéphanie Ruffier\n					Les Trois Coups – Le journal du spectacle vivant \n				\n			\n				\n				\n				\n				\n				\n				\n					Pour rendre palpable une utopie\, l’humour comme résistance. \n					Hanna Laborde\n					Théâtre(s) Magazine
URL:https://jedisenscene.fr/evenement/la-motivation-cie-ldqv-le-denouement-quon-voudrait/
LOCATION:Aspet\, Las Vignes\, Aspet\, 31160\, France
CATEGORIES:Jeudis en Scène !
ATTACH;FMTTYPE=image/png:https://jedisenscene.fr/wp-content/uploads/2025/05/image-e1746774739918.png
ORGANIZER;CN="Je dis en sc%C3%A8ne !":MAILTO:contact@jedisenscene.fr
END:VEVENT
BEGIN:VEVENT
DTSTART;TZID=Europe/Paris:20250717T200000
DTEND;TZID=Europe/Paris:20250717T200000
DTSTAMP:20260421T235255
CREATED:20250509T073822Z
LAST-MODIFIED:20251023T144620Z
UID:10000180-1752782400-1752782400@jedisenscene.fr
SUMMARY:Toute la mer du monde – La compagnie de l'autre - Alexis Delmastro –
DESCRIPTION:Entrée à participation libre \nThéâtre de rue60 minutesTout public à partir de 12 ans \nOn arrive avec nos certitudes. On arrive en pensant savoir ce qu’est le son d’une guitare et l’on se trompe. On arrive en pensant savoir ce qu’est le Rock et on se trompe encore. On ne sait pas\, quand il arrive\, avec son groupe solo\, que l’on va pouvoir en rire ou en pleurer ou les deux en même temps.  \nOn ne sait pas quand ça commence ou si c’est déjà fini. Un concert sommaire où toutes nos certitudes sont balayées dès la première chanson. Ne le ratez pas. Johnny est mort\, les Insus sont vieux\, Noir Désir c’est fini\, heureusement il nous reste Alexis Delmastro. \n			\n				\n				\n				\n				\n				\n			\n			\n				\n				\n				\n				\n				\n				\n				\n				\n				\n				\n   DISTRIBUTION \nGuitare et chant : Alexis DemastroMusique : France CartignyPhoto : Fanchon Bilbille \nLA COMPAGNIE \nLa Compagnie de l’Autre\, créée en 1999 par Alexis Delmastro\, est une troupe française spécialisée dans un « théâtre de la réalité »\, oscillant entre humour et philosophie. Depuis plus de vingt ans\, elle a donné vie à un triptyque « humoristophilosophique » : Mon toit du monde à moi\, c’est toi\, Tout le monde peut en cacher un autre et Toute la mer du monde \nAlexis Delmastro\, auteur\, compositeur et interprète\, transforme l’ordinaire en extraordinaire : avec Toute la mer du monde (créée en 2014 et jouée aujourd’hui encore)\, il propose un « concert sommaire » où paroles et guitares balaient nos certitudes dès la première chanson\, mêlant émotion et légèreté dans une forme inclassable \nSite internet de la compagnie :https://lacompagniedelautre.comhttps://www.alexis-delmastro.com \n\n			\n			\n				\n				\n				\n				\n			\n				\n				\n				\n				\n				\n				\n				\n					\n					\n					\n				\n				\n					\n					\n					\n				\n				\n					\n					\n					\n				\n				\n				\n				\n				\n				\n				\n				\n					Noir Désir\, c’est fini\, Louise Attaque aussi\, Les Insus de Téléphone sont vieux\, Johnny est mort\, Higelin\, hélas\, n’a pu faire mieux et BB Brune ce n’est pas du rock. Heureusement\, il nous reste Alexis Delmastro\, avec son sens de la dérision\, de la drôlerie et du partage. On pense savoir ce qu’est le son d’une guitare et puis on se trompe. On pense savoir également ce qu’est le rock et on ne sait plus très bien. L’artiste fait son show entre chansons à texte\, sons de guitare rock’n’roll et humour décapant. On ne sait pas trop quand ça commence et quand ça finit. Son spectacle “Toute la mer du monde”\, c’est quoi ? C’est nouveau. C’est un concert de guitares. Ce sont des chansons qui donnent à penser. C’est du rock’n’roll. C’est de la musique que vous n’avez jamais entendue. Tout ça\, sans concession\, jusqu’à ce qu’on ne s’entende plus. Sa musique vous prend la tripe\, ses mots vous prennent l’oreille et le sens vous prend la tête. En résumé\, “Toute la mer du monde” bousille nos certitudes\, sur la musique et sur la vie\, en deux coups de cuillère à cordes. \n					Correspondant\n					La Dépêche du Midi
URL:https://jedisenscene.fr/evenement/toute-la-mer-du-monde-la-compagnie-de-lautre-alexis-delmastro/
LOCATION:Aspet\, Las Vignes\, Aspet\, 31160\, France
CATEGORIES:Jeudis en Scène !
ATTACH;FMTTYPE=image/jpeg:https://jedisenscene.fr/wp-content/uploads/2025/05/AhAhAh-La-Cigale-©-Fanchon-Bilbille-2019-27-sur-121-scaled-e1746776266213.jpg
ORGANIZER;CN="Je dis en sc%C3%A8ne !":MAILTO:contact@jedisenscene.fr
END:VEVENT
BEGIN:VEVENT
DTSTART;TZID=Europe/Paris:20250724T200000
DTEND;TZID=Europe/Paris:20250724T200000
DTSTAMP:20260421T235255
CREATED:20250509T080346Z
LAST-MODIFIED:20251023T144620Z
UID:10000181-1753387200-1753387200@jedisenscene.fr
SUMMARY:Salut – Compagnie Simone –
DESCRIPTION:Entrée à participation libre \nThéâtre de rue60 minutesTout public à partir de 8 ans \n— SALUT : c’est un spectacle en espace public à propos de la rencontre.— Laquelle ?— Toutes ! Enfin\, c’est le sujet quoi : toutes les manières qu’on a de se rencontrer. Donc dedans\, il y a différentes rencontres entre deux personnes\, puis leur rencontre avec le public. Et même la rencontre des spectateur·ices entre elles et eux.— Ah oui\, d’accord\, ça a l’air fun !— Ouais\, grave. \nUn travail musical\, chorégraphique et rythmique du texte ; les voix s’entremêlent\, s’alternent ou se rassemblent en écho. \n			\n				\n				\n				\n				\n				\n			\n			\n				\n				\n				\n				\n				\n				\n				\n				\n				\n				\n   DISTRIBUTION \nEcriture\, mise en scène et jeu :Camille Dordoigne et Joseph LemarignierPhoto : Léa Sévère \nLA COMPAGNIE \nLa Compagnie Notre Insouciance est une troupe de théâtre en espace public dirigée par Juliette Hecquet\, metteuse en scène\, comédienne et médiatrice culturelle. Depuis 2018\, elle collabore avec une vingtaine d’artistes aux profils pluridisciplinaires\, mêlant théâtre\, musique\, danse et audiovisuel. Leur démarche artistique vise à croiser la recherche contemporaine avec des enjeux sociétaux\, en investissant l’espace public et des lieux non dédiés au spectacle vivant pour favoriser l’échange et le partage. \nLa compagnie Simone\, hébergée par Notre Insouciance\, a créé le spectacle SALUT en juin 2021. Cette création est née d’un défi : le festival « Avant le Soir » à Marseille leur a proposé de présenter un spectacle dans les parcs et jardins de la ville\, avec seulement dix jours pour écrire\, mettre en scène et jouer un duo destiné à l’extérieur. Ce contexte a inspiré une réflexion sur la rencontre\, devenant le thème central du spectacle. \nSite de la compagnie :https://www.compagnienotreinsouciance.fr/salut \n\n			\n			\n				\n				\n				\n				\n			\n				\n				\n				\n				\n				\n				\n				\n					\n					\n					\n				\n				\n					\n					\n					\n				\n				\n					\n					\n					\n				\n				\n					\n					\n					\n				\n				\n				\n				\n				\n				\n				\n				\n					Un spectacle rythmé\, chorégraphique et musical\, où textes\, voix et corps s’entrelacent entre improvisation et écriture précise. \n					LE NID DE POULE\n					Festival La Basse Cour
URL:https://jedisenscene.fr/evenement/salut-compagnie-simone/
LOCATION:Aspet\, Las Vignes\, Aspet\, 31160\, France
CATEGORIES:Jeudis en Scène !
ATTACH;FMTTYPE=image/jpeg:https://jedisenscene.fr/wp-content/uploads/2025/05/PHOTO-SALUT-scaled-e1746777772936.jpg
ORGANIZER;CN="Je dis en sc%C3%A8ne !":MAILTO:contact@jedisenscene.fr
END:VEVENT
BEGIN:VEVENT
DTSTART;TZID=Europe/Paris:20250731T200000
DTEND;TZID=Europe/Paris:20250731T200000
DTSTAMP:20260421T235255
CREATED:20250509T083704Z
LAST-MODIFIED:20251023T144620Z
UID:10000182-1753992000-1753992000@jedisenscene.fr
SUMMARY:Dark – Bruital Compagnie –
DESCRIPTION:Entrée à participation libre \nThéâtre bruité et mimé60 minutesTout public à partir de 12 ans \nPlus Dark que jamais\, Jeanne renaît de ses cendres dans cette nouvelle création de la Bruital Compagnie qui nous entraîne au cœur d’un Moyen Âge violent et caricatural\, entre la parodie et le film épique. Le mime bruité et le lipsync s’entremêlent pour donner corps à de multiples personnages tous plus fêlés les uns que les autres\, évoluant autour d’une Jeanne qui se révèle être\, probablement\, la moins folle de tous… \nUne création qui revisite l’univers médiéval à travers le personnage de Jeanne d’Arc\, mêlant parodie\, mime bruité et effets spéciaux. \n			\n				\n				\n				\n				\n				\n			\n			\n				\n				\n				\n				\n				\n				\n				\n				\n				\n				\n   DISTRIBUTION \nÉcriture et mise en scène : Anne Bouchard\, Lorraine Brochet\, Barnabé Gautier et Rémy VachetJeu : Barnabé Gautier et Lorraine BrochetDirection d’acteur : Anne Bouchard\, Rémy VachetCréation sonore : Thibault Le MarecRegard extérieur : Emmanuel GilCostumes : Alice BoulouinConstruction décor : Rémi Athonady \nPhoto : Yassine Lemonnier \nLA COMPAGNIE \nLa Bruital Compagnie est une troupe de théâtre de rue fondée en 2013 à Bruxelles par Lorraine Brochet\, Barnabé Gautier et Anne Bouchard\, à la suite de leur formation à l’école Lassaâd\, spécialisée dans la pédagogie Lecoq. Installée aujourd’hui à Toulouse\, la compagnie se distingue par son style unique mêlant mime bruité\, lipsync\, humour visuel et musique live. \nSite de la compagnie :https://www.bruital.com \n\n			\n			\n				\n				\n				\n				\n			\n				\n				\n				\n				\n				\n				\n				\n					\n					\n					\n				\n				\n					\n					\n					\n				\n				\n					\n					\n					\n				\n				\n					\n					\n					\n				\n				\n				\n				\n				\n				\n				\n				\n					Après « Wanted »\, ils reviennent avec une nouvelle mise en scène totalement décalée et anachronique autour du personnage de Jeanne d’Arc. Avec leur technique de mime et de doublage toujours aussi impressionnante\, ils donnent vie à une multitude de personnages pour une histoire complètement dingue ! \n					L'ÉTÉ DE VAOUR
URL:https://jedisenscene.fr/evenement/dark-bruital-compagnie/
LOCATION:Aspet\, Las Vignes\, Aspet\, 31160\, France
CATEGORIES:Jeudis en Scène !
ATTACH;FMTTYPE=image/jpeg:https://jedisenscene.fr/wp-content/uploads/2025/05/Paysage-16_10-scaled.jpg
ORGANIZER;CN="Je dis en sc%C3%A8ne !":MAILTO:contact@jedisenscene.fr
END:VEVENT
END:VCALENDAR