BEGIN:VCALENDAR
VERSION:2.0
PRODID:-//Je dis en scène ! - ECPv6.15.20//NONSGML v1.0//EN
CALSCALE:GREGORIAN
METHOD:PUBLISH
X-ORIGINAL-URL:https://jedisenscene.fr
X-WR-CALDESC:Évènements pour Je dis en scène !
REFRESH-INTERVAL;VALUE=DURATION:PT1H
X-Robots-Tag:noindex
X-PUBLISHED-TTL:PT1H
BEGIN:VTIMEZONE
TZID:Europe/Paris
BEGIN:DAYLIGHT
TZOFFSETFROM:+0100
TZOFFSETTO:+0200
TZNAME:CEST
DTSTART:20140330T010000
END:DAYLIGHT
BEGIN:STANDARD
TZOFFSETFROM:+0200
TZOFFSETTO:+0100
TZNAME:CET
DTSTART:20141026T010000
END:STANDARD
BEGIN:DAYLIGHT
TZOFFSETFROM:+0100
TZOFFSETTO:+0200
TZNAME:CEST
DTSTART:20150329T010000
END:DAYLIGHT
BEGIN:STANDARD
TZOFFSETFROM:+0200
TZOFFSETTO:+0100
TZNAME:CET
DTSTART:20151025T010000
END:STANDARD
BEGIN:DAYLIGHT
TZOFFSETFROM:+0100
TZOFFSETTO:+0200
TZNAME:CEST
DTSTART:20160327T010000
END:DAYLIGHT
BEGIN:STANDARD
TZOFFSETFROM:+0200
TZOFFSETTO:+0100
TZNAME:CET
DTSTART:20161030T010000
END:STANDARD
END:VTIMEZONE
BEGIN:VEVENT
DTSTART;TZID=Europe/Paris:20150716T220000
DTEND;TZID=Europe/Paris:20150716T233000
DTSTAMP:20260420T161817
CREATED:20221111T200129Z
LAST-MODIFIED:20251023T144726Z
UID:10000135-1437084000-1437089400@jedisenscene.fr
SUMMARY:Prends tes médicaments\, j't'emmène à Tarbes – Compagnie Étincelles Théâtre –
DESCRIPTION:Entrée à participation libre \nThéâtreDurée :A partir de 12 ans \nL’évolution d’une famille. Le père est alcoolique. Le fils est dépendant au cannabis et aux jeux vidéos. La vie de la mère tourne autour de 3 choses: médicaments\, Française des jeux\, télévision. \nCe cocktail n’est guère propice aux échanges familiaux. \nEntre burlesque et intimisme\, humour et émotion forte\, il s’agira ici d’aborder le thème des addictions sans jugement\, de pointer les dysfonctionnements relationnels qu’elles peuvent entraîner. \n			\n			\n				\n				\n				\n				\n				\n				\n				\n				\n				\n				Distribution \nde Jean-Marie Daude \nGiles Flachenberg\, Catherine Bouligand et Jérôme Lecomte  \nCompagnie Étincelles ThéâtreAriège
URL:https://jedisenscene.fr/evenement/prends-tes-medicaments-jtemmene-a-tarbes/
LOCATION:Sarp\, 44 Rte du Saint-Bertrand\, Sarp\, 65370\, France
CATEGORIES:Fête de la chanson politique,Jeudis en Scène !
ATTACH;FMTTYPE=image/jpeg:https://jedisenscene.fr/wp-content/uploads/2022/11/Sans-titre-1.jpg
ORGANIZER;CN="Je dis en sc%C3%A8ne !":MAILTO:contact@jedisenscene.fr
END:VEVENT
END:VCALENDAR