BEGIN:VCALENDAR
VERSION:2.0
PRODID:-//Je dis en scène ! - ECPv6.15.20//NONSGML v1.0//EN
CALSCALE:GREGORIAN
METHOD:PUBLISH
X-WR-CALNAME:Je dis en scène !
X-ORIGINAL-URL:https://jedisenscene.fr
X-WR-CALDESC:Évènements pour Je dis en scène !
REFRESH-INTERVAL;VALUE=DURATION:PT1H
X-Robots-Tag:noindex
X-PUBLISHED-TTL:PT1H
BEGIN:VTIMEZONE
TZID:Europe/Paris
BEGIN:DAYLIGHT
TZOFFSETFROM:+0100
TZOFFSETTO:+0200
TZNAME:CEST
DTSTART:20170326T010000
END:DAYLIGHT
BEGIN:STANDARD
TZOFFSETFROM:+0200
TZOFFSETTO:+0100
TZNAME:CET
DTSTART:20171029T010000
END:STANDARD
BEGIN:DAYLIGHT
TZOFFSETFROM:+0100
TZOFFSETTO:+0200
TZNAME:CEST
DTSTART:20180325T010000
END:DAYLIGHT
BEGIN:STANDARD
TZOFFSETFROM:+0200
TZOFFSETTO:+0100
TZNAME:CET
DTSTART:20181028T010000
END:STANDARD
BEGIN:DAYLIGHT
TZOFFSETFROM:+0100
TZOFFSETTO:+0200
TZNAME:CEST
DTSTART:20190331T010000
END:DAYLIGHT
BEGIN:STANDARD
TZOFFSETFROM:+0200
TZOFFSETTO:+0100
TZNAME:CET
DTSTART:20191027T010000
END:STANDARD
END:VTIMEZONE
BEGIN:VEVENT
DTSTART;TZID=Europe/Paris:20180830T220000
DTEND;TZID=Europe/Paris:20180830T233000
DTSTAMP:20260421T010508
CREATED:20221109T002359Z
LAST-MODIFIED:20251023T144707Z
UID:10000117-1535666400-1535671800@jedisenscene.fr
SUMMARY:Tout contre toi – Compagnie Moving People –
DESCRIPTION:Entrée à participation libre \nThéâtre de MarionnettesDurée : 60 minutesA partir de 12 ans \nUne porte\, une table\, deux chaises et une horloge sont les éléments du cadre de cinq huis clos amoureux.4 couples\, 1 trio\, 21 figurants et 1 duo de marionnettistes s’aventurent dans le labyrinthe des relations et des identités. \nDes contes d’humour\, tendre\, cruel et étrange\, qui font voler en éclats les portes ouvertes sur l’intime. \nLes séquences s’enchaînent\, mêlant diverses techniques de marionnettes\, accompagnées d’une musique originale renforçant l’atmosphère poétique de ce spectacle sans paroles \n			\n			\n				\n				\n				\n				\n				\n				\n				\n				\n				\n				Distribution \nÉcriture\, mise en scène & construction : Jo Smith & Katia Leroi-GodetInterprétation : Jo Smith & Mélodie PareauMusique & Son : AlbiConstruction scénographique : Pitrack Sant \nCompagnie Moving PeopleSite internet : https://ciemovingpeople.com/
URL:https://jedisenscene.fr/evenement/tout-contre-toi/
LOCATION:Sarp\, 44 Rte du Saint-Bertrand\, Sarp\, 65370\, France
CATEGORIES:Jeudis en Scène !
ATTACH;FMTTYPE=image/jpeg:https://jedisenscene.fr/wp-content/uploads/2022/11/a1e86c7d-905c-4a53-9db1-fd955e9c.jpg
ORGANIZER;CN="Je dis en sc%C3%A8ne !":MAILTO:contact@jedisenscene.fr
END:VEVENT
END:VCALENDAR