BEGIN:VCALENDAR
VERSION:2.0
PRODID:-//Je dis en scène ! - ECPv6.15.20//NONSGML v1.0//EN
CALSCALE:GREGORIAN
METHOD:PUBLISH
X-WR-CALNAME:Je dis en scène !
X-ORIGINAL-URL:https://jedisenscene.fr
X-WR-CALDESC:Évènements pour Je dis en scène !
REFRESH-INTERVAL;VALUE=DURATION:PT1H
X-Robots-Tag:noindex
X-PUBLISHED-TTL:PT1H
BEGIN:VTIMEZONE
TZID:Europe/Paris
BEGIN:DAYLIGHT
TZOFFSETFROM:+0100
TZOFFSETTO:+0200
TZNAME:CEST
DTSTART:20170326T010000
END:DAYLIGHT
BEGIN:STANDARD
TZOFFSETFROM:+0200
TZOFFSETTO:+0100
TZNAME:CET
DTSTART:20171029T010000
END:STANDARD
BEGIN:DAYLIGHT
TZOFFSETFROM:+0100
TZOFFSETTO:+0200
TZNAME:CEST
DTSTART:20180325T010000
END:DAYLIGHT
BEGIN:STANDARD
TZOFFSETFROM:+0200
TZOFFSETTO:+0100
TZNAME:CET
DTSTART:20181028T010000
END:STANDARD
BEGIN:DAYLIGHT
TZOFFSETFROM:+0100
TZOFFSETTO:+0200
TZNAME:CEST
DTSTART:20190331T010000
END:DAYLIGHT
BEGIN:STANDARD
TZOFFSETFROM:+0200
TZOFFSETTO:+0100
TZNAME:CET
DTSTART:20191027T010000
END:STANDARD
END:VTIMEZONE
BEGIN:VEVENT
DTSTART;TZID=Europe/Paris:20180809T200000
DTEND;TZID=Europe/Paris:20180809T213000
DTSTAMP:20260421T024608
CREATED:20221108T170200Z
LAST-MODIFIED:20251023T144707Z
UID:10000114-1533844800-1533850200@jedisenscene.fr
SUMMARY:Cœur en cavale – Compagnie Les Clochards Célestes –
DESCRIPTION:Entrée à participation libre \nThéâtre et marionnettesDurée : 45 minutesA partir de 4 ans \n​Au loin une silhouette de femme\, frêle mais décidée.Avec elle\, un vélo-cheval et sa diligence…la poussière d’un sol aride et des gamelles qui brinquebalent…et cette petite odeur de fumée qui nous transporte vers le Far West… \nEn Cercle\, rappelant celui des Amérindiens\, le public est invité à partager un temps d’intimité avec cette femme qui ouvre ici son carnet de route\, comme un cri de liberté\, un cœur ouvert à l’urgence de Vivre et d’Aimer. \nCette œuvre théâtrale de rue met en scène des tableaux vivants\, picturaux\, sculptés et animés.Il y est question de la Vie\, de la Mort\, d’Amour et de Nature sauvage. \n			\n			\n				\n				\n				\n				\n				\n				\n				\n				\n				\n				Distribution \nEcriture et jeuSha Presseq​ \nMise en scèneCéline Cohen \nCompagnie Les Clochards CélestesToulouseSite internet : http://www.cielesclochardscelestes.fr/
URL:https://jedisenscene.fr/evenement/coeur-en-cavale/
LOCATION:Sarp\, 44 Rte du Saint-Bertrand\, Sarp\, 65370\, France
CATEGORIES:Jeudis en Scène !
ATTACH;FMTTYPE=image/jpeg:https://jedisenscene.fr/wp-content/uploads/2022/11/little-big-heart-spectacle-mario.jpg
ORGANIZER;CN="Je dis en sc%C3%A8ne !":MAILTO:contact@jedisenscene.fr
END:VEVENT
END:VCALENDAR