BEGIN:VCALENDAR
VERSION:2.0
PRODID:-//Je dis en scène ! - ECPv6.15.20//NONSGML v1.0//EN
CALSCALE:GREGORIAN
METHOD:PUBLISH
X-WR-CALNAME:Je dis en scène !
X-ORIGINAL-URL:https://jedisenscene.fr
X-WR-CALDESC:Évènements pour Je dis en scène !
REFRESH-INTERVAL;VALUE=DURATION:PT1H
X-Robots-Tag:noindex
X-PUBLISHED-TTL:PT1H
BEGIN:VTIMEZONE
TZID:Europe/Paris
BEGIN:DAYLIGHT
TZOFFSETFROM:+0100
TZOFFSETTO:+0200
TZNAME:CEST
DTSTART:20170326T010000
END:DAYLIGHT
BEGIN:STANDARD
TZOFFSETFROM:+0200
TZOFFSETTO:+0100
TZNAME:CET
DTSTART:20171029T010000
END:STANDARD
BEGIN:DAYLIGHT
TZOFFSETFROM:+0100
TZOFFSETTO:+0200
TZNAME:CEST
DTSTART:20180325T010000
END:DAYLIGHT
BEGIN:STANDARD
TZOFFSETFROM:+0200
TZOFFSETTO:+0100
TZNAME:CET
DTSTART:20181028T010000
END:STANDARD
BEGIN:DAYLIGHT
TZOFFSETFROM:+0100
TZOFFSETTO:+0200
TZNAME:CEST
DTSTART:20190331T010000
END:DAYLIGHT
BEGIN:STANDARD
TZOFFSETFROM:+0200
TZOFFSETTO:+0100
TZNAME:CET
DTSTART:20191027T010000
END:STANDARD
END:VTIMEZONE
BEGIN:VEVENT
DTSTART;TZID=Europe/Paris:20180726T200000
DTEND;TZID=Europe/Paris:20180726T213000
DTSTAMP:20260421T041956
CREATED:20221108T161521Z
LAST-MODIFIED:20251023T144707Z
UID:10000112-1532635200-1532640600@jedisenscene.fr
SUMMARY:Après moi le déluge – Compagnie Avec des géraniums –
DESCRIPTION:Entrée à participation libre \nThéâtreDurée : 75 minutesA partir de 13 ans et demi \nUn homme attend un guide. Volubile\, jovial\, un brin schizophrénique il se dévoile et se laisse déborder par les personnages qui l’habitent. \nD’une idylle avec Bob à sa rencontre avec Dédé le Prophète\, des bancs de la fac aux plages de la Costa Brava\, entre prises de conscience et désillusions fracassantes\, il nous emmène dans sa singulière quête pour changer le monde. \n			\n			\n				\n				\n				\n				\n				\n				\n				\n				\n				\n				Distribution \nEcriture\, mise en scène et jeuAlec Somoza \nAide à l’écriture et à la mise en scèneF. Lepage\, M. Egard\, V. Véril \nCompagnie Avec des géraniumsTournefeuilleSite internet : https://www.cie-avecdesgeraniums.com/
URL:https://jedisenscene.fr/evenement/apres-moi-le-deluge-2018/
LOCATION:Sarp\, 44 Rte du Saint-Bertrand\, Sarp\, 65370\, France
CATEGORIES:Jeudis en Scène !
ATTACH;FMTTYPE=image/jpeg:https://jedisenscene.fr/wp-content/uploads/2022/11/da9764_49230814d4aa40c6a41f6bac9-1.jpg
ORGANIZER;CN="Je dis en sc%C3%A8ne !":MAILTO:contact@jedisenscene.fr
END:VEVENT
END:VCALENDAR