BEGIN:VCALENDAR
VERSION:2.0
PRODID:-//Je dis en scène ! - ECPv6.15.20//NONSGML v1.0//EN
CALSCALE:GREGORIAN
METHOD:PUBLISH
X-ORIGINAL-URL:https://jedisenscene.fr
X-WR-CALDESC:Évènements pour Je dis en scène !
REFRESH-INTERVAL;VALUE=DURATION:PT1H
X-Robots-Tag:noindex
X-PUBLISHED-TTL:PT1H
BEGIN:VTIMEZONE
TZID:Europe/Paris
BEGIN:DAYLIGHT
TZOFFSETFROM:+0100
TZOFFSETTO:+0200
TZNAME:CEST
DTSTART:20170326T010000
END:DAYLIGHT
BEGIN:STANDARD
TZOFFSETFROM:+0200
TZOFFSETTO:+0100
TZNAME:CET
DTSTART:20171029T010000
END:STANDARD
BEGIN:DAYLIGHT
TZOFFSETFROM:+0100
TZOFFSETTO:+0200
TZNAME:CEST
DTSTART:20180325T010000
END:DAYLIGHT
BEGIN:STANDARD
TZOFFSETFROM:+0200
TZOFFSETTO:+0100
TZNAME:CET
DTSTART:20181028T010000
END:STANDARD
BEGIN:DAYLIGHT
TZOFFSETFROM:+0100
TZOFFSETTO:+0200
TZNAME:CEST
DTSTART:20190331T010000
END:DAYLIGHT
BEGIN:STANDARD
TZOFFSETFROM:+0200
TZOFFSETTO:+0100
TZNAME:CET
DTSTART:20191027T010000
END:STANDARD
END:VTIMEZONE
BEGIN:VEVENT
DTSTART;TZID=Europe/Paris:20180719T200000
DTEND;TZID=Europe/Paris:20180719T213000
DTSTAMP:20260421T042000
CREATED:20221108T160356Z
LAST-MODIFIED:20251023T144707Z
UID:10000111-1532030400-1532035800@jedisenscene.fr
SUMMARY:La vie devant soi – Compagnie Les chiennes nationales –
DESCRIPTION:Entrée à participation libre \nThéâtreDurée : 60 minutesA partir de 10 ans \nC’est l’histoire d’amour entre un petit garçon arabe et une vieille femme juive… \nCe texte écrit par l’auteur le plus énigmatique de sa génération\, nous offre la possibilité\, à travers leur histoire\, d’avoir un regard dépourvu de préjugés religieux et culturels. Le seul conflit est face à la vie\, les autres murs tombent. \nLa vie devant soi (prix Goncourt 1975)\, nous invite à suivre Momo\, qui grandit dans le Belleville des arabes\, des juifs\, des noirs et des prostituées\, qui partagent joyeusement leur misère et se débattent contre la vie « parce que ça ne pardonne pas » et « parce qu’il n’est pas nécessaire d’avoir des raisons pour avoir peur ». \nLe témoignage fictionnel de Momo soulève la question: comment trouver sa place ? Pour toute réponse\, Romain Gary propose la fraternité\, avec l’affirmation que seul l’amour peut donner du sens à la vie. Il est donc essentiel pour nous que ce moment de spectacle traduise à sa façon\, vivante\, drôle\, cette même fraternité\, le spectateur devenant lui aussi personnage d’une histoire que nous allons vivre ensemble. \nLes comédiennes offrent aux spectateurs l’occasion de participer à la représentation par leur présence au sein même du dispositif. L’espace devient instantanément le décor du récit\, à savoir l’appartement de madame rosa\, véritable orphelinat pour les enfants de putes\, puis la cave où elle finira sa vie. \nTout au long du spectacle les comédiennes sortent des cadres/photos d’un vieux carton. Ces portraits naïfs et maladroits reproduisent la drôlerie enfantine avec laquelle Momo dépeint son monde. \nLe choix de ce roman et l’envie de l’adapter a été influencé par la notion de citoyenneté qu’il soulevait. Romain Gary interroge notre Monde. La parole vive de Momo permet l’interaction avec le public et son invitation à nous suivre n’en est que plus jubilatoire. \n			\n			\n				\n				\n				\n				\n				\n				\n				\n				\n				\n				Distribution \nAdaptation\, mise en espace et jeuMaïa Ricaud \nAdaptation et jeuOlivier Waibel \nCompagnie Les chiennes nationales \nSite internet : https://leschiennesnationales.fr/
URL:https://jedisenscene.fr/evenement/la-vie-devant-soi/
LOCATION:Sarp\, 44 Rte du Saint-Bertrand\, Sarp\, 65370\, France
CATEGORIES:Jeudis en Scène !
ATTACH;FMTTYPE=image/jpeg:https://jedisenscene.fr/wp-content/uploads/2022/11/so-57e1011566a4bde778c6ee6d-ph0169.jpg
ORGANIZER;CN="Je dis en sc%C3%A8ne !":MAILTO:contact@jedisenscene.fr
END:VEVENT
END:VCALENDAR