BEGIN:VCALENDAR
VERSION:2.0
PRODID:-//Je dis en scène ! - ECPv6.15.20//NONSGML v1.0//EN
CALSCALE:GREGORIAN
METHOD:PUBLISH
X-WR-CALNAME:Je dis en scène !
X-ORIGINAL-URL:https://jedisenscene.fr
X-WR-CALDESC:Évènements pour Je dis en scène !
REFRESH-INTERVAL;VALUE=DURATION:PT1H
X-Robots-Tag:noindex
X-PUBLISHED-TTL:PT1H
BEGIN:VTIMEZONE
TZID:Europe/Paris
BEGIN:DAYLIGHT
TZOFFSETFROM:+0100
TZOFFSETTO:+0200
TZNAME:CEST
DTSTART:20160327T010000
END:DAYLIGHT
BEGIN:STANDARD
TZOFFSETFROM:+0200
TZOFFSETTO:+0100
TZNAME:CET
DTSTART:20161030T010000
END:STANDARD
BEGIN:DAYLIGHT
TZOFFSETFROM:+0100
TZOFFSETTO:+0200
TZNAME:CEST
DTSTART:20170326T010000
END:DAYLIGHT
BEGIN:STANDARD
TZOFFSETFROM:+0200
TZOFFSETTO:+0100
TZNAME:CET
DTSTART:20171029T010000
END:STANDARD
BEGIN:DAYLIGHT
TZOFFSETFROM:+0100
TZOFFSETTO:+0200
TZNAME:CEST
DTSTART:20180325T010000
END:DAYLIGHT
BEGIN:STANDARD
TZOFFSETFROM:+0200
TZOFFSETTO:+0100
TZNAME:CET
DTSTART:20181028T010000
END:STANDARD
END:VTIMEZONE
BEGIN:VEVENT
DTSTART;TZID=Europe/Paris:20170713T200000
DTEND;TZID=Europe/Paris:20170713T213000
DTSTAMP:20260423T221549
CREATED:20221109T140343Z
LAST-MODIFIED:20251023T144725Z
UID:10000118-1499976000-1499981400@jedisenscene.fr
SUMMARY:SoliloqueS – Compagnie Singulière –
DESCRIPTION:Entrée à participation libre \nCirque tout terrainDurée : 70 minutesA partir de 10 ans \nSoliloqueS ? C’est du cirque\, mais pas uniquement. C’est surprenant mais pas pour ce qu’on croit. C’est une compagnie plutôt singulière : un équilibriste\, de l’aérien\, un fildefériste\, de la danse\, de la contorsion\, le tout sur les notes “rares” d’un piano impromptu. Vous vous laisserez bluffer par La Compagnie Singulière ! \nAvec SoliloqueS\, la compagnie Singulière initie un travail très personnel et prend le parti du politique\, au sens large et noble du terme. Elle parle de la place de l’individu dans le groupe\, allégorie subtile et forte de la vie en société\, et plus largement sur notre planète. \nA travers SoliloqueS\, La Compagnie Singulière poursuit ses investigations au sein de la relation qui lie public et artistes\, des investigations esquissées lors d’un précédent travail avec les Fabulous Trobadors. Elles trouvent ici matière à se développer\, fertiliser et se ramifier d’une manière à la fois prenante et surprenante\, originale et pertinente\, poétique et politique : l’ambition et la nécessité de rentrer en interaction avec les spectateurs conduisent les comédiens à prendre à parti le public et à le solliciter de façon à le rendre actif. Touchant\, candide\, fragile… \nSoliloqueS est un spectacle qui touche par la simplicité de ses mots\, ses gestes\, qui porte un regard sur notre “vivre ensemble”\, qui nous conduit par l’humour et la générosité au cœur de cette grande question du troisième millénaire que constitue notre humanité mondialisée. \n			\n			\n				\n				\n				\n				\n				\n				\n				\n				\n				\n				Distribution \nAvec \nMélissa Vary : contorsionniste et voltigeuse aérienne \nGéraldine Niara : tissu aérien \nLuiz Ferreira : porteur au trapèze \nFranck Dupuis : équilibriste \nThomas Bodinier : fil-de-fériste \nMarcel Vérot : pianiste \nHélène Tourmente : régie technique \n​Création collective mise en scène par Christian Coumin \nAide à la création \nLido\, Centre des Arts du Cirque de Toulouse \nRégime d’assurance chômage des intermittents du spectacle. \nLa compagnie Singulière est lauréate de l’opération Jeunes Talents Cirque 2006. \nCompagnie SingulèreHaute-GaronneSite internet : http://www.lacompagniesinguliere.fr/
URL:https://jedisenscene.fr/evenement/soliloques/
LOCATION:Sarp\, 44 Rte du Saint-Bertrand\, Sarp\, 65370\, France
CATEGORIES:Jeudis en Scène !
ATTACH;FMTTYPE=image/jpeg:https://jedisenscene.fr/wp-content/uploads/2022/11/SoliloqueS_sans-titre_15x20cm_300dpi.jpg
ORGANIZER;CN="Je dis en sc%C3%A8ne !":MAILTO:contact@jedisenscene.fr
END:VEVENT
END:VCALENDAR