BEGIN:VCALENDAR
VERSION:2.0
PRODID:-//Je dis en scène ! - ECPv6.15.20//NONSGML v1.0//EN
CALSCALE:GREGORIAN
METHOD:PUBLISH
X-WR-CALNAME:Je dis en scène !
X-ORIGINAL-URL:https://jedisenscene.fr
X-WR-CALDESC:Évènements pour Je dis en scène !
REFRESH-INTERVAL;VALUE=DURATION:PT1H
X-Robots-Tag:noindex
X-PUBLISHED-TTL:PT1H
BEGIN:VTIMEZONE
TZID:Europe/Paris
BEGIN:DAYLIGHT
TZOFFSETFROM:+0100
TZOFFSETTO:+0200
TZNAME:CEST
DTSTART:20150329T010000
END:DAYLIGHT
BEGIN:STANDARD
TZOFFSETFROM:+0200
TZOFFSETTO:+0100
TZNAME:CET
DTSTART:20151025T010000
END:STANDARD
BEGIN:DAYLIGHT
TZOFFSETFROM:+0100
TZOFFSETTO:+0200
TZNAME:CEST
DTSTART:20160327T010000
END:DAYLIGHT
BEGIN:STANDARD
TZOFFSETFROM:+0200
TZOFFSETTO:+0100
TZNAME:CET
DTSTART:20161030T010000
END:STANDARD
BEGIN:DAYLIGHT
TZOFFSETFROM:+0100
TZOFFSETTO:+0200
TZNAME:CEST
DTSTART:20170326T010000
END:DAYLIGHT
BEGIN:STANDARD
TZOFFSETFROM:+0200
TZOFFSETTO:+0100
TZNAME:CET
DTSTART:20171029T010000
END:STANDARD
END:VTIMEZONE
BEGIN:VEVENT
DTSTART;TZID=Europe/Paris:20160825T220000
DTEND;TZID=Europe/Paris:20160825T233000
DTSTAMP:20260424T145054
CREATED:20221109T212411Z
LAST-MODIFIED:20251023T144725Z
UID:10000133-1472162400-1472167800@jedisenscene.fr
SUMMARY:Le colporteur de vie – Compagnie L'Arbassonge –
DESCRIPTION:Entrée à participation libre \nThéâtre d’objetsDurée : 40 minutesTout public \nMarionnettes habitées et manipulées à vue\, sans paroles\, visuel et musical. \nLe colporteur de vie retrace le parcours d’un vieux voyageur. Il vient de nulle part… \nHors temps\, sa présence est impressionnante. Il ressemble à ces arbres ancestraux et ridés\, à ces rocs immuables témoins de l’histoire du monde. Dans sa lourde valise\, c’est un rêve qu’il transporte\, celui de la vie. \nIl avance lentement vers la scène\, pour enfin s’y reposer… \n			\n			\n				\n				\n				\n				\n				\n				\n				\n				\n				\n				Distribution \nCompagnie L’arbassongeSite internet : https://www.larbassonge.fr
URL:https://jedisenscene.fr/evenement/le-colporteur-de-vie/
LOCATION:Sarp\, 44 Rte du Saint-Bertrand\, Sarp\, 65370\, France
CATEGORIES:Jeudis en Scène !
ATTACH;FMTTYPE=image/jpeg:https://jedisenscene.fr/wp-content/uploads/2022/11/LeColporteurdeVie.jpg
ORGANIZER;CN="Je dis en sc%C3%A8ne !":MAILTO:contact@jedisenscene.fr
END:VEVENT
END:VCALENDAR