BEGIN:VCALENDAR
VERSION:2.0
PRODID:-//Je dis en scène ! - ECPv6.15.20//NONSGML v1.0//EN
CALSCALE:GREGORIAN
METHOD:PUBLISH
X-ORIGINAL-URL:https://jedisenscene.fr
X-WR-CALDESC:Évènements pour Je dis en scène !
REFRESH-INTERVAL;VALUE=DURATION:PT1H
X-Robots-Tag:noindex
X-PUBLISHED-TTL:PT1H
BEGIN:VTIMEZONE
TZID:Europe/Paris
BEGIN:DAYLIGHT
TZOFFSETFROM:+0100
TZOFFSETTO:+0200
TZNAME:CEST
DTSTART:20150329T010000
END:DAYLIGHT
BEGIN:STANDARD
TZOFFSETFROM:+0200
TZOFFSETTO:+0100
TZNAME:CET
DTSTART:20151025T010000
END:STANDARD
BEGIN:DAYLIGHT
TZOFFSETFROM:+0100
TZOFFSETTO:+0200
TZNAME:CEST
DTSTART:20160327T010000
END:DAYLIGHT
BEGIN:STANDARD
TZOFFSETFROM:+0200
TZOFFSETTO:+0100
TZNAME:CET
DTSTART:20161030T010000
END:STANDARD
BEGIN:DAYLIGHT
TZOFFSETFROM:+0100
TZOFFSETTO:+0200
TZNAME:CEST
DTSTART:20170326T010000
END:DAYLIGHT
BEGIN:STANDARD
TZOFFSETFROM:+0200
TZOFFSETTO:+0100
TZNAME:CET
DTSTART:20171029T010000
END:STANDARD
END:VTIMEZONE
BEGIN:VEVENT
DTSTART;TZID=Europe/Paris:20160818T220000
DTEND;TZID=Europe/Paris:20160818T233000
DTSTAMP:20260424T145217
CREATED:20221109T210437Z
LAST-MODIFIED:20251023T144725Z
UID:10000132-1471557600-1471563000@jedisenscene.fr
SUMMARY:Sex\, drugs and chansons d'roll – Monsieur TRISTAN –
DESCRIPTION:Entrée à participation libre \nStand up et musiqueDurée : 90 minutesA partir de 14 ans \nC’EST UN CONCERT ? C’EST UN SPECTACLE ? C’EST UNE RÉPÈTE ?En tout cas\, ça commence comme un concert… \nMais en fait\, c’est un spectacle\, un vrai spectacle. \nDe son rêve de gosse aux répètes dans sa chambre avec les disques de rock de son père\, en passant par ses premiers faits d’armes « guitaristiques » sur les plages pour « pécho »\, jusqu’à…On ne vous en dira pas plus!Juste que Monsieur Tristan nous raconte son parcours et ses déboires de musicien.Et que sous prétexte de nous faire rire\, et ce toujours avec dérision\, il pose un regard critique et amusé sur les recettes utilisées dans le commerce de la musique. \nSex\, Drugs & Chansons ‘d’ Roll est un spectacle avec une véritable interaction \, le public fait partie intégrante de cette « expérience musicale » où Monsieur Tristan y Chante\, rap\, joue de la guitare\, fabrique des « tubes » sur scènes avec son looper à coup de beat box\, de synthé et de chœurs harmonisés . \nPARCE QUE DERRIÈRE LE CHANTEUR/MUSICIEN SE CACHE UN CLOWN\, À MOINS QUE CE NE SOIT L’INVERSE… \n			\n			\n				\n				\n				\n				\n				\n				\n				\n				\n				\n				Distribution \nMonsieur TRISTANToulouseSite internet : https://www.facebook.com/monsieurtristan
URL:https://jedisenscene.fr/evenement/sex-drugs-and-chansons-droll-monsieur-tristan/
LOCATION:Sarp\, 44 Rte du Saint-Bertrand\, Sarp\, 65370\, France
CATEGORIES:Jeudis en Scène !
ATTACH;FMTTYPE=image/jpeg:https://jedisenscene.fr/wp-content/uploads/2022/11/DSC00067.jpg
ORGANIZER;CN="Je dis en sc%C3%A8ne !":MAILTO:contact@jedisenscene.fr
END:VEVENT
END:VCALENDAR