BEGIN:VCALENDAR
VERSION:2.0
PRODID:-//Je dis en scène ! - ECPv6.15.20//NONSGML v1.0//EN
CALSCALE:GREGORIAN
METHOD:PUBLISH
X-ORIGINAL-URL:https://jedisenscene.fr
X-WR-CALDESC:Évènements pour Je dis en scène !
REFRESH-INTERVAL;VALUE=DURATION:PT1H
X-Robots-Tag:noindex
X-PUBLISHED-TTL:PT1H
BEGIN:VTIMEZONE
TZID:Europe/Paris
BEGIN:DAYLIGHT
TZOFFSETFROM:+0100
TZOFFSETTO:+0200
TZNAME:CEST
DTSTART:20150329T010000
END:DAYLIGHT
BEGIN:STANDARD
TZOFFSETFROM:+0200
TZOFFSETTO:+0100
TZNAME:CET
DTSTART:20151025T010000
END:STANDARD
BEGIN:DAYLIGHT
TZOFFSETFROM:+0100
TZOFFSETTO:+0200
TZNAME:CEST
DTSTART:20160327T010000
END:DAYLIGHT
BEGIN:STANDARD
TZOFFSETFROM:+0200
TZOFFSETTO:+0100
TZNAME:CET
DTSTART:20161030T010000
END:STANDARD
BEGIN:DAYLIGHT
TZOFFSETFROM:+0100
TZOFFSETTO:+0200
TZNAME:CEST
DTSTART:20170326T010000
END:DAYLIGHT
BEGIN:STANDARD
TZOFFSETFROM:+0200
TZOFFSETTO:+0100
TZNAME:CET
DTSTART:20171029T010000
END:STANDARD
END:VTIMEZONE
BEGIN:VEVENT
DTSTART;TZID=Europe/Paris:20160714T220000
DTEND;TZID=Europe/Paris:20160714T233000
DTSTAMP:20260424T133043
CREATED:20221109T201446Z
LAST-MODIFIED:20251023T144725Z
UID:10000127-1468533600-1468539000@jedisenscene.fr
SUMMARY:EL OELHA – Concert de guitare solo et machines –
DESCRIPTION:Entrée à participation libre \nConcertDurée : 90 minutesTout public \nConcert en deux temps à 19h30 et 22h \nEl Oelha est un artiste qui mélange le son acoustique et la technique électronique. \nA l’aide d’une pédale de sampling et d’une guitare classique\, il écrit des compositions influencées par le classique\, le flamenco\, le jazz… \nLa sensibilité du son acoustique voit ses limites repoussées par l’utilisation du sample. Cette musique étonnante vous fera voyager vers de nouveaux horizons. \n			\n			\n				\n				\n				\n				\n				\n				\n				\n				\n				\n				Distribution \nQuentin Buffier : Guitare solo et machines \nQuentin BuffierHautes-PyrénéesSite internet : https://quentindummkopf.wixsite.com/el-oelha
URL:https://jedisenscene.fr/evenement/el-oelha/
LOCATION:Sarp\, 44 Rte du Saint-Bertrand\, Sarp\, 65370\, France
CATEGORIES:Jeudis en Scène !
ATTACH;FMTTYPE=image/jpeg:https://jedisenscene.fr/wp-content/uploads/2022/11/22123fed130913ff1c2df1e3cbf8fbcd.jpg
ORGANIZER;CN="Je dis en sc%C3%A8ne !":MAILTO:contact@jedisenscene.fr
END:VEVENT
END:VCALENDAR