BEGIN:VCALENDAR
VERSION:2.0
PRODID:-//Je dis en scène ! - ECPv6.15.20//NONSGML v1.0//EN
CALSCALE:GREGORIAN
METHOD:PUBLISH
X-WR-CALNAME:Je dis en scène !
X-ORIGINAL-URL:https://jedisenscene.fr
X-WR-CALDESC:Évènements pour Je dis en scène !
REFRESH-INTERVAL;VALUE=DURATION:PT1H
X-Robots-Tag:noindex
X-PUBLISHED-TTL:PT1H
BEGIN:VTIMEZONE
TZID:Europe/Paris
BEGIN:DAYLIGHT
TZOFFSETFROM:+0100
TZOFFSETTO:+0200
TZNAME:CEST
DTSTART:20140330T010000
END:DAYLIGHT
BEGIN:STANDARD
TZOFFSETFROM:+0200
TZOFFSETTO:+0100
TZNAME:CET
DTSTART:20141026T010000
END:STANDARD
BEGIN:DAYLIGHT
TZOFFSETFROM:+0100
TZOFFSETTO:+0200
TZNAME:CEST
DTSTART:20150329T010000
END:DAYLIGHT
BEGIN:STANDARD
TZOFFSETFROM:+0200
TZOFFSETTO:+0100
TZNAME:CET
DTSTART:20151025T010000
END:STANDARD
BEGIN:DAYLIGHT
TZOFFSETFROM:+0100
TZOFFSETTO:+0200
TZNAME:CEST
DTSTART:20160327T010000
END:DAYLIGHT
BEGIN:STANDARD
TZOFFSETFROM:+0200
TZOFFSETTO:+0100
TZNAME:CET
DTSTART:20161030T010000
END:STANDARD
END:VTIMEZONE
BEGIN:VEVENT
DTSTART;TZID=Europe/Paris:20150827T220000
DTEND;TZID=Europe/Paris:20150827T233000
DTSTAMP:20260425T031635
CREATED:20221111T205216Z
LAST-MODIFIED:20251023T144726Z
UID:10000140-1440712800-1440718200@jedisenscene.fr
SUMMARY:Zedrine – Slam impro –
DESCRIPTION:Entrée à participation libre \nConcertDurée : 90 minutesTout public \nZedrine est auteur compositeur interprète. Il écrit pour mettre en voix et en musique ses textes sur scène et sur disque\, seul ou au sein de collectifs\, mais aussi pour mettre en forme des livres. \nC’est après un court mais intense passage dans le secteur du travail social – qui l’a mené des banlieues anglaises à la médina d’Essaouira\, en passant par diverses structures françaises – que cet amoureux des mots et des rencontres choisit le chemin de la création et de la scène. Il s’agira\, dans ce cas comme dans son premier métier\, de se confronter à l’autre\, de voir une richesse dans ces relations où l’on donne autant que l’on reçoit. \n			\n			\n				\n				\n				\n				\n				\n				\n				\n				\n				\n				Distribution \nZedrineSite internet : https://zedrine.wordpress.com
URL:https://jedisenscene.fr/evenement/zedrine/
LOCATION:Sarp\, 44 Rte du Saint-Bertrand\, Sarp\, 65370\, France
CATEGORIES:Jeudis en Scène !
ATTACH;FMTTYPE=image/jpeg:https://jedisenscene.fr/wp-content/uploads/2022/11/cropped-dum-spiro-par-diane-barbier_18.jpg
ORGANIZER;CN="Je dis en sc%C3%A8ne !":MAILTO:contact@jedisenscene.fr
END:VEVENT
END:VCALENDAR