BEGIN:VCALENDAR
VERSION:2.0
PRODID:-//Je dis en scène ! - ECPv6.15.20//NONSGML v1.0//EN
CALSCALE:GREGORIAN
METHOD:PUBLISH
X-WR-CALNAME:Je dis en scène !
X-ORIGINAL-URL:https://jedisenscene.fr
X-WR-CALDESC:Évènements pour Je dis en scène !
REFRESH-INTERVAL;VALUE=DURATION:PT1H
X-Robots-Tag:noindex
X-PUBLISHED-TTL:PT1H
BEGIN:VTIMEZONE
TZID:Europe/Paris
BEGIN:DAYLIGHT
TZOFFSETFROM:+0100
TZOFFSETTO:+0200
TZNAME:CEST
DTSTART:20140330T010000
END:DAYLIGHT
BEGIN:STANDARD
TZOFFSETFROM:+0200
TZOFFSETTO:+0100
TZNAME:CET
DTSTART:20141026T010000
END:STANDARD
BEGIN:DAYLIGHT
TZOFFSETFROM:+0100
TZOFFSETTO:+0200
TZNAME:CEST
DTSTART:20150329T010000
END:DAYLIGHT
BEGIN:STANDARD
TZOFFSETFROM:+0200
TZOFFSETTO:+0100
TZNAME:CET
DTSTART:20151025T010000
END:STANDARD
BEGIN:DAYLIGHT
TZOFFSETFROM:+0100
TZOFFSETTO:+0200
TZNAME:CEST
DTSTART:20160327T010000
END:DAYLIGHT
BEGIN:STANDARD
TZOFFSETFROM:+0200
TZOFFSETTO:+0100
TZNAME:CET
DTSTART:20161030T010000
END:STANDARD
END:VTIMEZONE
BEGIN:VEVENT
DTSTART;TZID=Europe/Paris:20150813T220000
DTEND;TZID=Europe/Paris:20150813T233000
DTSTAMP:20260425T031634
CREATED:20221111T204512Z
LAST-MODIFIED:20251023T144726Z
UID:10000139-1439503200-1439508600@jedisenscene.fr
SUMMARY:Ange B et David D – Human Juke Box –
DESCRIPTION:Entrée à participation libre \nConcertDurée : 90 minutesTout public \nange B (fabulous trobadors) et david D (entre dos aguas) \, proposent une rencontre interactive pour tous les joueurs de bouches et autres mélomanes curieux. Ce duo de beatbox enchaine compositions originales\, arrangements de textes occitans/français\, apprentissage des bases beatbox et mise en live. Beatboxers\, slameurs\, rapeurs… sont ainsi invités à les rejoindre sur scène pour une improvisation partagée. \n			\n			\n				\n				\n				\n				\n				\n				\n				\n				\n				\n				Distribution \nange b david d  \nSite internet : https://soundcloud.com/ange-b-david-d
URL:https://jedisenscene.fr/evenement/ange-b-et-david-d/
LOCATION:Sarp\, 44 Rte du Saint-Bertrand\, Sarp\, 65370\, France
CATEGORIES:Jeudis en Scène !
ATTACH;FMTTYPE=image/png:https://jedisenscene.fr/wp-content/uploads/2022/11/Capture-decran-2022-11-11-2141061.png
ORGANIZER;CN="Je dis en sc%C3%A8ne !":MAILTO:contact@jedisenscene.fr
END:VEVENT
END:VCALENDAR