BEGIN:VCALENDAR
VERSION:2.0
PRODID:-//Je dis en scène ! - ECPv6.15.20//NONSGML v1.0//EN
CALSCALE:GREGORIAN
METHOD:PUBLISH
X-WR-CALNAME:Je dis en scène !
X-ORIGINAL-URL:https://jedisenscene.fr
X-WR-CALDESC:Évènements pour Je dis en scène !
REFRESH-INTERVAL;VALUE=DURATION:PT1H
X-Robots-Tag:noindex
X-PUBLISHED-TTL:PT1H
BEGIN:VTIMEZONE
TZID:Europe/Paris
BEGIN:DAYLIGHT
TZOFFSETFROM:+0100
TZOFFSETTO:+0200
TZNAME:CEST
DTSTART:20140330T010000
END:DAYLIGHT
BEGIN:STANDARD
TZOFFSETFROM:+0200
TZOFFSETTO:+0100
TZNAME:CET
DTSTART:20141026T010000
END:STANDARD
BEGIN:DAYLIGHT
TZOFFSETFROM:+0100
TZOFFSETTO:+0200
TZNAME:CEST
DTSTART:20150329T010000
END:DAYLIGHT
BEGIN:STANDARD
TZOFFSETFROM:+0200
TZOFFSETTO:+0100
TZNAME:CET
DTSTART:20151025T010000
END:STANDARD
BEGIN:DAYLIGHT
TZOFFSETFROM:+0100
TZOFFSETTO:+0200
TZNAME:CEST
DTSTART:20160327T010000
END:DAYLIGHT
BEGIN:STANDARD
TZOFFSETFROM:+0200
TZOFFSETTO:+0100
TZNAME:CET
DTSTART:20161030T010000
END:STANDARD
END:VTIMEZONE
BEGIN:VEVENT
DTSTART;TZID=Europe/Paris:20150802T193000
DTEND;TZID=Europe/Paris:20150802T233000
DTSTAMP:20260425T031553
CREATED:20221111T202905Z
LAST-MODIFIED:20251023T144726Z
UID:10000137-1438543800-1438558200@jedisenscene.fr
SUMMARY:Tcharabia – Chants et musiques du monde –
DESCRIPTION:Entrée à participation libre \nConcertDurée : 90 minutesTout public \n\n\nManoupé et ses musiciens interprètent des chants traditionnels et populaires de différents pays. Ils s’approprient de nombreux idiomes et cultures en délivrant des atmosphères authentiques et métissées. Les airs s’enchaînent\, tantôt rythmés\, tantôt apaisants\, sublimés par cette voix et ces langues variées … un vrai et beau charabia ! \n\n\n			\n			\n				\n				\n				\n				\n				\n				\n				\n				\n				\n				Distribution \nEmanuela PERRUPATO : chant\, danse et percussionsDonatienne BASTIN : guitare\, violon et chantLaurent CHAVOIT : contrebasseMathias LUJAN : cajon\, djembe\, darbouka et percussions variée \nTcharabiaSite internet : https://www.facebook.com/tcharabia
URL:https://jedisenscene.fr/evenement/tcharabia/
LOCATION:Sarp\, 44 Rte du Saint-Bertrand\, Sarp\, 65370\, France
CATEGORIES:Jeudis en Scène !
ATTACH;FMTTYPE=image/jpeg:https://jedisenscene.fr/wp-content/uploads/2022/11/11217994_146049049067828_1436645212644226622_o.jpg
ORGANIZER;CN="Je dis en sc%C3%A8ne !":MAILTO:contact@jedisenscene.fr
END:VEVENT
END:VCALENDAR